BEGIN:VCALENDAR
VERSION:2.0
PRODID:-//InvisionCommunity Events 5.0.18//EN
METHOD:PUBLISH
CALSCALE:GREGORIAN
REFRESH-INTERVAL:PT15M
X-PUBLISHED-TTL:PT15M
X-WR-CALNAME:London and South East (LASER)
NAME:London and South East (LASER)
BEGIN:VTIMEZONE
TZID:Europe/London
TZURL:https://tzurl.org/zoneinfo/Europe/London
X-LIC-LOCATION:Europe/London
BEGIN:DAYLIGHT
TZOFFSETFROM:+0000
TZOFFSETTO:+0100
TZNAME:BST
DTSTART:20240331T020000Z
RRULE:FREQ=YEARLY;BYMONTH=3;BYDAY=-1SU
END:DAYLIGHT
BEGIN:STANDARD
TZOFFSETFROM:+0100
TZOFFSETTO:+0000
TZNAME:GMT
DTSTART:20241027T020000Z
RRULE:FREQ=YEARLY;BYMONTH=10;BYDAY=-1SU
END:STANDARD
END:VTIMEZONE
BEGIN:VEVENT
SUMMARY:Southampton Swim | 24 February 2024 | Oaklands Pool\, Southa
	mpton
DTSTAMP:20240203T123945Z
SEQUENCE:0
UID:8421-7-0712e666d78c35a5e0181a336d457050@bn.org.uk
ORGANIZER;CN="Ron.O":notifications@bn.org.uk
DESCRIPTION:\n	Naked Southampton Swim / Great British Skinny Dip at the 
	Oaklands Community Pool in Southampton.\n\n\n\n	Swims are typically once a
	 month from September to May\, but please see the entries in the BN even
	ts calendar for the dates and further details.\n\n\n\n	The cost is £8 on 
	the door or you can buy your ticket online by clicking here.\n\n\n\n	Under
	 18s\, who must be accompanied by a parent or guardian\n\n\n\n	The event i
	s open to all\, but please remember to bring photo ID\, such as a driving
	 licence\, or a BN membership card.\n\n\n\n	The pools website is  htt
	p://www.oaklandspool.org.uk/\n\n\n\n	SWIM DATES FOR 2024\n\n\n\n	20th Janu
	ary 2024 at 6.30pm to 8.30pm\n\n\n\n	24th February 2024 at 6.30pm to 8.3
	0pm\n\n\n\n	16th March 2024 at 6.30pm to 8.30pm\n\n\n\n	 \n\n\n\n	 \n\n
DTSTART:20240316T183000Z
DTEND:20240316T203000Z
END:VEVENT
END:VCALENDAR
