BEGIN:VCALENDAR
VERSION:2.0
PRODID:-//InvisionCommunity Events 5.0.18//EN
METHOD:PUBLISH
CALSCALE:GREGORIAN
REFRESH-INTERVAL:PT15M
X-PUBLISHED-TTL:PT15M
X-WR-CALNAME:Yorkshire and East Midlands
NAME:Yorkshire and East Midlands
BEGIN:VTIMEZONE
TZID:Europe/London
TZURL:https://tzurl.org/zoneinfo/Europe/London
X-LIC-LOCATION:Europe/London
BEGIN:DAYLIGHT
TZOFFSETFROM:+0000
TZOFFSETTO:+0100
TZNAME:BST
DTSTART:20240331T020000Z
RRULE:FREQ=YEARLY;BYMONTH=3;BYDAY=-1SU
END:DAYLIGHT
BEGIN:STANDARD
TZOFFSETFROM:+0100
TZOFFSETTO:+0000
TZNAME:GMT
DTSTART:20241027T020000Z
RRULE:FREQ=YEARLY;BYMONTH=10;BYDAY=-1SU
END:STANDARD
END:VTIMEZONE
BEGIN:VEVENT
SUMMARY:Yorks & E.Mids walks - WNHD Levisham
DTSTAMP:20240128T155523Z
SEQUENCE:0
UID:8412-6-0712e666d78c35a5e0181a336d457050@bn.org.uk
ORGANIZER;CN="sarah7":notifications@bn.org.uk
DESCRIPTION:\n	Levisham Naturist Walk – WNHD - Friday 21 June\n\n\n\n	
	Join us on World Naked Hiking Day for a 6 mile naturist walk starting at a
	nd returning to Levisham off the A169 Pickering/Whitby road\, Friday 21 Ju
	ne 2024 at 11.00 am.\n\n\n\n	The walk is mainly flat\, with one moderate h
	ill\, passing through grassland\, agricultural fields and open countryside
	\, with breathtaking views of the Hole of Horcum and the surrounding hills
	. The circular route follows a network of public footpaths before heading 
	back to the start point across open countryside.\n\n\n\n	For further infor
	mation or to book onto the event\, contact Sarah White via email: sarah.wh
	ite@bn.org.uk . Details of the meeting point and other information will be
	 provided when your booking is confirmed.\n\n\n\n\n\n\n\n\n\n
DTSTART:20240621T100000Z
END:VEVENT
END:VCALENDAR
