BEGIN:VCALENDAR
VERSION:2.0
PRODID:-//InvisionCommunity Events 5.0.18//EN
METHOD:PUBLISH
CALSCALE:GREGORIAN
REFRESH-INTERVAL:PT15M
X-PUBLISHED-TTL:PT15M
X-WR-CALNAME:Yorkshire and East Midlands
NAME:Yorkshire and East Midlands
BEGIN:VTIMEZONE
TZID:Europe/London
TZURL:https://tzurl.org/zoneinfo/Europe/London
X-LIC-LOCATION:Europe/London
BEGIN:DAYLIGHT
TZOFFSETFROM:+0000
TZOFFSETTO:+0100
TZNAME:BST
DTSTART:20240331T020000Z
RRULE:FREQ=YEARLY;BYMONTH=3;BYDAY=-1SU
END:DAYLIGHT
BEGIN:STANDARD
TZOFFSETFROM:+0100
TZOFFSETTO:+0000
TZNAME:GMT
DTSTART:20241027T020000Z
RRULE:FREQ=YEARLY;BYMONTH=10;BYDAY=-1SU
END:STANDARD
END:VTIMEZONE
BEGIN:VEVENT
SUMMARY:Yorks & E.Mids walks - Thixendale
DTSTAMP:20240128T151204Z
SEQUENCE:0
UID:8410-6-0712e666d78c35a5e0181a336d457050@bn.org.uk
ORGANIZER;CN="sarah7":notifications@bn.org.uk
DESCRIPTION:\n	Thixendale Naturist Walk – Wed 17 July\n\n\n\n	 \n\n\n
	\n	Join us for a 6 mile naturist walk starting at/returning to Thixendale 
	\, North Yorks located to the south of Malton. .\n\n\n\n	The walk is mainl
	y flat\, with one moderate and one steep hill\, passing through grassland\
	, agricultural fields and open countryside\, with stunning views of the wo
	lds. The circular route follows a network of public footpaths including th
	e Wolds Way and Centenary Way before heading back to the start point acros
	s open countryside.\n\n\n\n	The event is being organised by British Naturi
	sm and is open to all members\, and others interested in naked walking. Wh
	en booking\, please state whether you are a member of British Naturism or 
	another naturist group and provide your email address and mobile phone num
	ber.\n\n\n\n	For further information or to book onto the event\, contact S
	arah White via email: sarah.white@bn.org.uk Details of the meeting point a
	nd other information will be provided when your booking is confirmed.\n\n
DTSTART:20240717T100000Z
END:VEVENT
END:VCALENDAR
