BEGIN:VCALENDAR
VERSION:2.0
PRODID:-//InvisionCommunity Events 5.0.18//EN
METHOD:PUBLISH
CALSCALE:GREGORIAN
REFRESH-INTERVAL:PT15M
X-PUBLISHED-TTL:PT15M
X-WR-CALNAME:Eastern
NAME:Eastern
BEGIN:VTIMEZONE
TZID:Europe/London
TZURL:https://tzurl.org/zoneinfo/Europe/London
X-LIC-LOCATION:Europe/London
BEGIN:DAYLIGHT
TZOFFSETFROM:+0000
TZOFFSETTO:+0100
TZNAME:BST
DTSTART:20240331T020000Z
RRULE:FREQ=YEARLY;BYMONTH=3;BYDAY=-1SU
END:DAYLIGHT
BEGIN:STANDARD
TZOFFSETFROM:+0100
TZOFFSETTO:+0000
TZNAME:GMT
DTSTART:20241027T020000Z
RRULE:FREQ=YEARLY;BYMONTH=10;BYDAY=-1SU
END:STANDARD
END:VTIMEZONE
BEGIN:VEVENT
SUMMARY:Eastern Region Spring Regional Meeting
DTSTAMP:20240125T101024Z
SEQUENCE:0
UID:8405-8-0712e666d78c35a5e0181a336d457050@bn.org.uk
ORGANIZER;CN="cathbromley":notifications@bn.org.uk
DESCRIPTION:\n	We look forward to welcoming you to our Spring regional m
	eeting which will be held at Springwood Sun Club\, home turf for our new R
	egional Organiser Nigel Newman. The club will be serving us a buffet lunch
	 at a cost of £10 per person and afterwards you can explore this wonderfu
	l club. Please advise if you have any dietary requirements. \n\n\n\n	If y
	ou plan to attend\, please email Cath on easternsecretary@bn.org.uk or mes
	sage CathBromley on the forum by 7th April so that we can give the club n
	umbers for lunch.\n\n\n\n	Reports and other documents will be attached to 
	this event.\n\n\n\n	Club Naturel review 2024 BN (2).pdf WNSC Report BN ER 
	202403.pdf EasternRegion-springreport-2024-MNSC.pdf SPRINGWOOD SUN CLUB BN
	 mtg Apr 24.pdf\n\n\n\n	blackthorns_report.pdf\n\n\n\n	Regional Organiser 
	Report.pdf\n\n\n\n	Arcadians of Greenglades.pdf\n\n\n\n	Diogenes Club Repo
	rt 14th April 2024(1).pdf\n\n\n\n	BN Meeting Spring 2024.docx.pdf\n\n\n\n	
	 \n\n\n\n	Eastern Walks Report for Spring Meeting 2024.pdf\n\n\n\n	BN Eas
	tern Region Spring 2024 Meeting Cambridge Outdoor Club Report .pdf\n\n\n\n
		Eastern Region Financial Report Spring 2024.pdf\n\n\nBN Eastern Region Au
	tumn Meeting 2023 Minutes-1.pdf
DTSTART:20240414T100000Z
END:VEVENT
END:VCALENDAR
