BEGIN:VCALENDAR
VERSION:2.0
PRODID:-//InvisionCommunity Events 5.0.18//EN
METHOD:PUBLISH
CALSCALE:GREGORIAN
REFRESH-INTERVAL:PT15M
X-PUBLISHED-TTL:PT15M
X-WR-CALNAME:Yorkshire and East Midlands
NAME:Yorkshire and East Midlands
BEGIN:VTIMEZONE
TZID:Europe/London
TZURL:https://tzurl.org/zoneinfo/Europe/London
X-LIC-LOCATION:Europe/London
BEGIN:DAYLIGHT
TZOFFSETFROM:+0000
TZOFFSETTO:+0100
TZNAME:BST
DTSTART:20240331T020000Z
RRULE:FREQ=YEARLY;BYMONTH=3;BYDAY=-1SU
END:DAYLIGHT
BEGIN:STANDARD
TZOFFSETFROM:+0100
TZOFFSETTO:+0000
TZNAME:GMT
DTSTART:20241027T020000Z
RRULE:FREQ=YEARLY;BYMONTH=10;BYDAY=-1SU
END:STANDARD
END:VTIMEZONE
BEGIN:VEVENT
SUMMARY:Doncaster Pride
DTSTAMP:20240116T100823Z
SEQUENCE:0
UID:8315-6-0712e666d78c35a5e0181a336d457050@bn.org.uk
ORGANIZER;CN="Bare_Rick":notifications@bn.org.uk
DESCRIPTION:\n	Thanks to Anita\, Brian\, Paul\, Mark B\, Andrew D and Gi
	ll who helped and supported BN today. It was a great day and lots of peopl
	e stopped by the stand and many smiles on the parade. Shame we didn’t ha
	ve many volunteers promoting BN.  Want to get involved in the future with
	 some micro-volunteering why not check out the BN Volunteering pages.   
	\n\n\n\n	** COME AND SUPPORT BN AND  PRIDE HOWEVER YOU IDENTIFY WE’D LO
	VE TO SEE YOU ***\n\n\n\n	Countdown timer \n\n\n\n	The Yorkshire and East 
	Midlands Region will be attending the Doncaster Pride. We are working with
	 BN and will be entering the parade and having a stand in the field. \n\n
	\n\n	I’ve just read the Doncaster Pride website and can confirm the foll
	owing information:\n\n\n\n	Start to gather from 10.00am\, the parade will 
	depart from Duke Street at 10.30am. We'll turn right onto St Sepulchre Gat
	e\, passing the Frenchgate Centre then turning right onto High Street. We'
	ll progress straight onto Hall Gate\,  down South Parade and continue dow
	n Bennettorpe.\n\n	\n		\n			\n				Pedestrians will turn left at the corner
	 of Prosec and enter Town Field to disperse and walk to the UK Pride Donca
	ster entrance.\n			\n			\n				Vehicles will continue alone Bennettorpe tur
	n right onto Roman Road and disperse. \n			\n		\n	\n\n\n\n	This is very e
	xciting as this year Doncaster Pride has been selected to be the UK Pride 
	event.\n\n\n\n	Would you like to be in the parade (we will put in a walkin
	g float)\, costumes to be decided or help out on the stall?\n\n\n\n	If you
	 are coming please let me know either in a comment below\, via direct mess
	age or email\, thanks.\n\n\n\n	Signing up for some volunteering at the eve
	nt could tick of one of the challenges for volunteering as part of BN’s 
	60 challenge.\n\n\n\n	\n\n\n\n	\n\n\n\n	\n\n\n
DTSTART;VALUE=DATE:20240810
END:VEVENT
END:VCALENDAR
