BEGIN:VCALENDAR
VERSION:2.0
PRODID:-//InvisionCommunity Events 5.0.18//EN
METHOD:PUBLISH
CALSCALE:GREGORIAN
REFRESH-INTERVAL:PT15M
X-PUBLISHED-TTL:PT15M
X-WR-CALNAME:London and South East (LASER)
NAME:London and South East (LASER)
BEGIN:VTIMEZONE
TZID:Europe/London
TZURL:https://tzurl.org/zoneinfo/Europe/London
X-LIC-LOCATION:Europe/London
BEGIN:DAYLIGHT
TZOFFSETFROM:+0000
TZOFFSETTO:+0100
TZNAME:BST
DTSTART:20240331T020000Z
RRULE:FREQ=YEARLY;BYMONTH=3;BYDAY=-1SU
END:DAYLIGHT
BEGIN:STANDARD
TZOFFSETFROM:+0100
TZOFFSETTO:+0000
TZNAME:GMT
DTSTART:20241027T020000Z
RRULE:FREQ=YEARLY;BYMONTH=10;BYDAY=-1SU
END:STANDARD
END:VTIMEZONE
BEGIN:VEVENT
SUMMARY:Natram walk Tenbridge P'evels
DTSTAMP:20231219T135850Z
SEQUENCE:0
UID:8242-7-0712e666d78c35a5e0181a336d457050@bn.org.uk
ORGANIZER;CN="7kk19bnu4spcmn.andrew":notifications@bn.org.uk
DESCRIPTION:\n	Join us for a 10 mile* walk across extensive marshland an
	d water-meadow near Pevensey in East Sussex.\n\n\n\n	This is a new walk fo
	r 2024\, but parts of it will be familiar to those who have done the \"Pev
	ensey Levels\" Stark Trek.  It has been considerably extended and starts 
	from a different place.\n\n\n\n	*Note: a shorter version of this walk is a
	lso available on the day.\n\n\n\n	Please see our website www.naturistrambl
	ers.co.uk for details.\n\n
DTSTART:20240711T103000Z
DTEND:20240711T173000Z
END:VEVENT
END:VCALENDAR
