BEGIN:VCALENDAR
VERSION:2.0
PRODID:-//InvisionCommunity Events 5.0.18//EN
METHOD:PUBLISH
CALSCALE:GREGORIAN
REFRESH-INTERVAL:PT15M
X-PUBLISHED-TTL:PT15M
X-WR-CALNAME:London and South East (LASER)
NAME:London and South East (LASER)
BEGIN:VTIMEZONE
TZID:Europe/London
TZURL:https://tzurl.org/zoneinfo/Europe/London
X-LIC-LOCATION:Europe/London
BEGIN:DAYLIGHT
TZOFFSETFROM:+0000
TZOFFSETTO:+0100
TZNAME:BST
DTSTART:20240331T020000Z
RRULE:FREQ=YEARLY;BYMONTH=3;BYDAY=-1SU
END:DAYLIGHT
BEGIN:STANDARD
TZOFFSETFROM:+0100
TZOFFSETTO:+0000
TZNAME:GMT
DTSTART:20241027T020000Z
RRULE:FREQ=YEARLY;BYMONTH=10;BYDAY=-1SU
END:STANDARD
END:VTIMEZONE
BEGIN:VEVENT
SUMMARY:Stark Trekkers North Downs One Way
DTSTAMP:20231219T132911Z
SEQUENCE:0
UID:8238-7-0712e666d78c35a5e0181a336d457050@bn.org.uk
ORGANIZER;CN="7kk19bnu4spcmn.andrew":notifications@bn.org.uk
DESCRIPTION:\n	Join us for a 6 mile stroll along a section of the North 
	Downs Way (Pilgrims Way) near Ashford in Kent.\n\n\n\n	This walk is not ci
	rcular\, but goes from A to B.  So bring your bus pass (if you have one) 
	for the short trip back to the start after the walk.  If you are coming b
	y train\, there are stations near both ends of the walk!\n\n\n\n	Note that
	 the walk is in the reverse direction compared to 2023\n\n\n\n	See our web
	site www.naturistramblers.co.uk for details.\n\n\n\n	 \n\n
DTSTART:20240429T103000Z
DTEND:20240429T150000Z
END:VEVENT
END:VCALENDAR
