BEGIN:VCALENDAR
VERSION:2.0
PRODID:-//InvisionCommunity Events 5.0.18//EN
METHOD:PUBLISH
CALSCALE:GREGORIAN
REFRESH-INTERVAL:PT15M
X-PUBLISHED-TTL:PT15M
X-WR-CALNAME:London and South East (LASER)
NAME:London and South East (LASER)
BEGIN:VTIMEZONE
TZID:Europe/London
TZURL:https://tzurl.org/zoneinfo/Europe/London
X-LIC-LOCATION:Europe/London
BEGIN:DAYLIGHT
TZOFFSETFROM:+0000
TZOFFSETTO:+0100
TZNAME:BST
DTSTART:20240331T020000Z
RRULE:FREQ=YEARLY;BYMONTH=3;BYDAY=-1SU
END:DAYLIGHT
BEGIN:STANDARD
TZOFFSETFROM:+0100
TZOFFSETTO:+0000
TZNAME:GMT
DTSTART:20241027T020000Z
RRULE:FREQ=YEARLY;BYMONTH=10;BYDAY=-1SU
END:STANDARD
END:VTIMEZONE
BEGIN:VEVENT
SUMMARY:BN / NatRam walk rural Hampshire
DTSTAMP:20231219T102024Z
SEQUENCE:0
UID:8225-7-0712e666d78c35a5e0181a336d457050@bn.org.uk
ORGANIZER;CN="7kk19bnu4spcmn.andrew":notifications@bn.org.uk
DESCRIPTION:\n	Join us at Dunbridge for an 11 mile* walk through the gen
	tle Hampshire countryside\, with a pub meal to follow.\n\n\n\n	* Note: a s
	horter option is available.\n\n\n\n	This walk is open to both NatRam and B
	N members\, any BN members requiring further information about the walk al
	so Naked Dinner and skittles please contact Geoffrey via email geoffrey.ry
	der@bn.org.uk&lt\;mailto:geoffrey.ryder@bn.org.uk&gt\;\n\n\n\n	Please see 
	our website www.naturistramblers.co.uk for details.\n\n\n\n	Related Event:
	\n\n\n\n	Naked Dining and Skittles\n\n
DTSTART:20240613T103000Z
DTEND:20240613T173000Z
END:VEVENT
END:VCALENDAR
