BEGIN:VCALENDAR
VERSION:2.0
PRODID:-//InvisionCommunity Events 5.0.18//EN
METHOD:PUBLISH
CALSCALE:GREGORIAN
REFRESH-INTERVAL:PT15M
X-PUBLISHED-TTL:PT15M
X-WR-CALNAME:London and South East (LASER)
NAME:London and South East (LASER)
BEGIN:VTIMEZONE
TZID:Europe/London
TZURL:https://tzurl.org/zoneinfo/Europe/London
X-LIC-LOCATION:Europe/London
BEGIN:DAYLIGHT
TZOFFSETFROM:+0000
TZOFFSETTO:+0100
TZNAME:BST
DTSTART:20240331T020000Z
RRULE:FREQ=YEARLY;BYMONTH=3;BYDAY=-1SU
END:DAYLIGHT
BEGIN:STANDARD
TZOFFSETFROM:+0100
TZOFFSETTO:+0000
TZNAME:GMT
DTSTART:20241027T020000Z
RRULE:FREQ=YEARLY;BYMONTH=10;BYDAY=-1SU
END:STANDARD
END:VTIMEZONE
BEGIN:VEVENT
SUMMARY:Natram walk Leith Hill
DTSTAMP:20231219T095242Z
SEQUENCE:0
UID:8216-7-0712e666d78c35a5e0181a336d457050@bn.org.uk
ORGANIZER;CN="7kk19bnu4spcmn.andrew":notifications@bn.org.uk
DESCRIPTION:\n	Join us for an 11 mile* walk on Leith Hill near Dorking i
	n Surrey.\n\n\n\n	* Note: a shorter version of this walk will be available
	 on the day.\n\n\n\n	Natram's walking season ends in the Surrey Hills Area
	 Of Outstanding Natural Beauty west of Dorking.\n\n\n\n	If you don't want 
	to hang up your walking boots just yet\, try one of the Stark Trekkers wal
	ks - they continue every month through the winter!\n\n\n\n	Please see our 
	website www.naturistramblers.co.uk for details.\n\n
DTSTART:20241003T103000Z
DTEND:20241003T173000Z
END:VEVENT
END:VCALENDAR
