BEGIN:VCALENDAR
VERSION:2.0
PRODID:-//InvisionCommunity Events 5.0.18//EN
METHOD:PUBLISH
CALSCALE:GREGORIAN
REFRESH-INTERVAL:PT15M
X-PUBLISHED-TTL:PT15M
X-WR-CALNAME:London and South East (LASER)
NAME:London and South East (LASER)
BEGIN:VTIMEZONE
TZID:Europe/London
TZURL:https://tzurl.org/zoneinfo/Europe/London
X-LIC-LOCATION:Europe/London
BEGIN:DAYLIGHT
TZOFFSETFROM:+0000
TZOFFSETTO:+0100
TZNAME:BST
DTSTART:20240331T020000Z
RRULE:FREQ=YEARLY;BYMONTH=3;BYDAY=-1SU
END:DAYLIGHT
BEGIN:STANDARD
TZOFFSETFROM:+0100
TZOFFSETTO:+0000
TZNAME:GMT
DTSTART:20241027T020000Z
RRULE:FREQ=YEARLY;BYMONTH=10;BYDAY=-1SU
END:STANDARD
END:VTIMEZONE
BEGIN:VEVENT
SUMMARY:Natram walk un-Firled
DTSTAMP:20231219T094309Z
SEQUENCE:0
UID:8213-7-0712e666d78c35a5e0181a336d457050@bn.org.uk
ORGANIZER;CN="7kk19bnu4spcmn.andrew":notifications@bn.org.uk
DESCRIPTION:\n	Join us for an 12 mile* walk on the South Downs near Alfr
	iston in East Sussex.\n\n\n\n	* Note: a shorter option for this walk will 
	be available on the day.\n\n\n\n	Fabulous views over the south coast and S
	ussex weald.\n\n\n\n	Please see our website www.naturistramblers.co.uk for
	 details.\n\n\n\n	 \n\n\n\n	Note: The date of this walk has been updated 
	to 18 July 2024 (not 17 July as previously advertised)\n\n
DTSTART:20240718T103000Z
DTEND:20240718T173000Z
END:VEVENT
END:VCALENDAR
