BEGIN:VCALENDAR
VERSION:2.0
PRODID:-//InvisionCommunity Events 5.0.18//EN
METHOD:PUBLISH
CALSCALE:GREGORIAN
REFRESH-INTERVAL:PT15M
X-PUBLISHED-TTL:PT15M
X-WR-CALNAME:London and South East (LASER)
NAME:London and South East (LASER)
BEGIN:VTIMEZONE
TZID:Europe/London
TZURL:https://tzurl.org/zoneinfo/Europe/London
X-LIC-LOCATION:Europe/London
BEGIN:DAYLIGHT
TZOFFSETFROM:+0000
TZOFFSETTO:+0100
TZNAME:BST
DTSTART:20240331T020000Z
RRULE:FREQ=YEARLY;BYMONTH=3;BYDAY=-1SU
END:DAYLIGHT
BEGIN:STANDARD
TZOFFSETFROM:+0100
TZOFFSETTO:+0000
TZNAME:GMT
DTSTART:20241027T020000Z
RRULE:FREQ=YEARLY;BYMONTH=10;BYDAY=-1SU
END:STANDARD
END:VTIMEZONE
BEGIN:VEVENT
SUMMARY:Stark Trekkers Long Man Downs
DTSTAMP:20231219T092840Z
SEQUENCE:0
UID:8209-7-0712e666d78c35a5e0181a336d457050@bn.org.uk
ORGANIZER;CN="7kk19bnu4spcmn.andrew":notifications@bn.org.uk
DESCRIPTION:\n	Celebrate World Naked Hiking Day by joining us for a 6 mi
	le midsummer's day walk on the South Downs near Polegate in East Sussex.\n
	\n\n\n	Note\, this walk is one day before BN's WNHD walks!  Some define W
	NHD as the same day as Summer Solstice\, which is 20th June in this 2024 l
	eap year.  But BN has agreed on the set date of 21st June every year (whi
	ch makes sense) . So this year\, you can enjoy WNHD twice - warm up with S
	tark Trekkers on the 20th\, then join one of the BN walks the 21st.\n\n\n\
	n	See our website www.naturistramblers.co.uk for details.\n\n\n\n	 \n\n
DTSTART:20240620T103000Z
DTEND:20240620T150000Z
END:VEVENT
END:VCALENDAR
