BEGIN:VCALENDAR
VERSION:2.0
PRODID:-//InvisionCommunity Events 5.0.18//EN
METHOD:PUBLISH
CALSCALE:GREGORIAN
REFRESH-INTERVAL:PT15M
X-PUBLISHED-TTL:PT15M
X-WR-CALNAME:London and South East (LASER)
NAME:London and South East (LASER)
BEGIN:VTIMEZONE
TZID:Europe/London
TZURL:https://tzurl.org/zoneinfo/Europe/London
X-LIC-LOCATION:Europe/London
BEGIN:DAYLIGHT
TZOFFSETFROM:+0000
TZOFFSETTO:+0100
TZNAME:BST
DTSTART:20240331T020000Z
RRULE:FREQ=YEARLY;BYMONTH=3;BYDAY=-1SU
END:DAYLIGHT
BEGIN:STANDARD
TZOFFSETFROM:+0100
TZOFFSETTO:+0000
TZNAME:GMT
DTSTART:20241027T020000Z
RRULE:FREQ=YEARLY;BYMONTH=10;BYDAY=-1SU
END:STANDARD
END:VTIMEZONE
BEGIN:VEVENT
SUMMARY:ESN swim at Seaford
DTSTAMP:20231129T200657Z
SEQUENCE:0
UID:8124-7-0712e666d78c35a5e0181a336d457050@bn.org.uk
ORGANIZER;CN="alanpeill1951":notifications@bn.org.uk
DESCRIPTION:\n	\n\n\n\n	 \n\n\n\n	Please join us at our Sunday afternoo
	n swim\, 14.45-15.45.\n\n\n\n	This event is organised by East Sussex Natur
	ists\, a BN club which hosts various indoor and outdoor events throughout 
	the year at which visitors are most welcome.\n\n\n\n	Our events are for me
	mbers and invited visitors and initially you will be given temporary membe
	rship (£1) for which a few details are required and photo-id must be show
	n to confirm your address. This ensures that events attract only naturists
	. We are a member club of British Naturism so please let us know your BN
	 membership number if you are a BN member. Swim price is £8 per person
	. See our website https://eastsussexnaturists.com or call the Secretary 
	on 07486 424068.\n\n\n\n	Seaford Head Pool\, Sutton Avenue\, Seaford\, Ea
	st Sussex BN25 4LX\n\n\n\n	\n\n
DTSTART:20240204T144500Z
DTEND:20240204T154500Z
END:VEVENT
END:VCALENDAR
