BEGIN:VCALENDAR
VERSION:2.0
PRODID:-//InvisionCommunity Events 5.0.18//EN
METHOD:PUBLISH
CALSCALE:GREGORIAN
REFRESH-INTERVAL:PT15M
X-PUBLISHED-TTL:PT15M
X-WR-CALNAME:London and South East (LASER)
NAME:London and South East (LASER)
BEGIN:VTIMEZONE
TZID:Europe/London
TZURL:https://tzurl.org/zoneinfo/Europe/London
X-LIC-LOCATION:Europe/London
BEGIN:DAYLIGHT
TZOFFSETFROM:+0000
TZOFFSETTO:+0100
TZNAME:BST
DTSTART:20240331T020000Z
RRULE:FREQ=YEARLY;BYMONTH=3;BYDAY=-1SU
END:DAYLIGHT
BEGIN:STANDARD
TZOFFSETFROM:+0100
TZOFFSETTO:+0000
TZNAME:GMT
DTSTART:20241027T020000Z
RRULE:FREQ=YEARLY;BYMONTH=10;BYDAY=-1SU
END:STANDARD
END:VTIMEZONE
BEGIN:VEVENT
SUMMARY:StarkTrek CANCELLED
DTSTAMP:20231126T082439Z
SEQUENCE:0
UID:8116-7-0712e666d78c35a5e0181a336d457050@bn.org.uk
ORGANIZER;CN="john.kendrick":notifications@bn.org.uk
DESCRIPTION:\n	UPDATED 7th Jan 2024:  This walk has been CANCELLED at s
	hort notice due to forecast adverse weather conditions.  The walk may be 
	retimed to another date.\n\n\n\n	Join us for our first walk of 2024: six m
	iles through magnificent woodland on the North Downs near Ashford in Kent.
	\n\n\n\n	See our website www.justwearasmile.co.uk/natram for details\n\n\n
	\n	 \n\n
DTSTART:20240108T113000Z
DTEND:20240108T160000Z
END:VEVENT
END:VCALENDAR
