BEGIN:VCALENDAR
VERSION:2.0
PRODID:-//InvisionCommunity Events 5.0.18//EN
METHOD:PUBLISH
CALSCALE:GREGORIAN
REFRESH-INTERVAL:PT15M
X-PUBLISHED-TTL:PT15M
X-WR-CALNAME:South West
NAME:South West
BEGIN:VTIMEZONE
TZID:Europe/London
TZURL:https://tzurl.org/zoneinfo/Europe/London
X-LIC-LOCATION:Europe/London
BEGIN:DAYLIGHT
TZOFFSETFROM:+0000
TZOFFSETTO:+0100
TZNAME:BST
DTSTART:20240331T020000Z
RRULE:FREQ=YEARLY;BYMONTH=3;BYDAY=-1SU
END:DAYLIGHT
BEGIN:STANDARD
TZOFFSETFROM:+0100
TZOFFSETTO:+0000
TZNAME:GMT
DTSTART:20241027T020000Z
RRULE:FREQ=YEARLY;BYMONTH=10;BYDAY=-1SU
END:STANDARD
END:VTIMEZONE
BEGIN:VEVENT
SUMMARY:Severn Vale Swimming Club
DTSTAMP:20231030T170520Z
SEQUENCE:0
UID:8101-4-0712e666d78c35a5e0181a336d457050@bn.org.uk
ORGANIZER;CN="melvyn.harris":notifications@bn.org.uk
DESCRIPTION:\n	This is a friendly\, regular naturist swim session held a
	t Tewkesbury Leisure Centre every second\, fourth and fifth Sunday each 
	month.\n\n\n\n	We meet at the Tewkesbury Leisure Centre\, Gloucester Road\
	, Tewkesbury\, GL20 5SX\, a venue boasting many facilities. There is a twe
	nty-five metre pool for serious swimming and a second\, warm\, 20 metre po
	ol\, alongside it. The smaller pool has an adjacent area with cascading wa
	ter features and floats and beach balls are available for anyone who wants
	 them.\n\n\n\n	Adjacent to the main pool\, there is a steam room and a sau
	na.\n\n\n\n	The club is always pleased to see members of British Naturism 
	or BN-affiliated clubs\, but to save embarrassment at the door\, please b
	ring your membership card with you.\n\n\n\n	Others\, particularly those wi
	shing to try naturism for the first time\, are welcomed by Severn Vale.\n\
	n\n\n	However\, we would be grateful if you will make prior arrangements b
	y telephoning the club first on either 07988 271760 or 07988 271750.\n\n\n
	\n	It would also save time on entry to the swim if you could print\, compl
	ete\, and bring with you a visitor registration form\, available on the we
	bsite www.severnvalesc.org\n\n
DTSTART:20240310T170000Z
DTEND:20240310T183000Z
END:VEVENT
END:VCALENDAR
