BEGIN:VCALENDAR
VERSION:2.0
PRODID:-//InvisionCommunity Events 5.0.18//EN
METHOD:PUBLISH
CALSCALE:GREGORIAN
REFRESH-INTERVAL:PT15M
X-PUBLISHED-TTL:PT15M
X-WR-CALNAME:North West
NAME:North West
BEGIN:VTIMEZONE
TZID:Europe/London
TZURL:https://tzurl.org/zoneinfo/Europe/London
X-LIC-LOCATION:Europe/London
BEGIN:DAYLIGHT
TZOFFSETFROM:+0000
TZOFFSETTO:+0100
TZNAME:BST
DTSTART:20250330T020000Z
RRULE:FREQ=YEARLY;BYMONTH=3;BYDAY=-1SU
END:DAYLIGHT
BEGIN:STANDARD
TZOFFSETFROM:+0100
TZOFFSETTO:+0000
TZNAME:GMT
DTSTART:20251026T020000Z
RRULE:FREQ=YEARLY;BYMONTH=10;BYDAY=-1SU
END:STANDARD
END:VTIMEZONE
BEGIN:VEVENT
SUMMARY:Shap Lido GBSD
DTSTAMP:20231024T122700Z
SEQUENCE:0
UID:8089-5-0712e666d78c35a5e0181a336d457050@bn.org.uk
ORGANIZER;CN="Ron.O":notifications@bn.org.uk
DESCRIPTION:\n	After three years of successful GBSD events at the fanta
	stic Shap Lido - we are repeating the events again on a monthly basis from
	 June to September. All 4 events are hosted by the Venue\, so  the booki
	ng details are here \n\n\n\n	These GBSD events are held on the 1st Tuesda
	y of each month. 6-8 pm - everyone welcome.\n\n\n\n	The last Swim in 2025 
	is Tuesday 2nd September 6-8pm.\n\n\n\n	The Pool is heated to 28c\n\n\n\n	
	Thinking of joining British Naturism?  More details here\n\n\n\n	\n\n
DTSTART:20250603T170000Z
DTEND:20250603T190000Z
END:VEVENT
END:VCALENDAR
