BEGIN:VCALENDAR
VERSION:2.0
PRODID:-//InvisionCommunity Events 5.0.18//EN
METHOD:PUBLISH
CALSCALE:GREGORIAN
REFRESH-INTERVAL:PT15M
X-PUBLISHED-TTL:PT15M
X-WR-CALNAME:North West
NAME:North West
BEGIN:VTIMEZONE
TZID:Europe/London
TZURL:https://tzurl.org/zoneinfo/Europe/London
X-LIC-LOCATION:Europe/London
BEGIN:DAYLIGHT
TZOFFSETFROM:+0000
TZOFFSETTO:+0100
TZNAME:BST
DTSTART:20230326T020000Z
RRULE:FREQ=YEARLY;BYMONTH=3;BYDAY=-1SU
END:DAYLIGHT
BEGIN:STANDARD
TZOFFSETFROM:+0100
TZOFFSETTO:+0000
TZNAME:GMT
DTSTART:20231029T020000Z
RRULE:FREQ=YEARLY;BYMONTH=10;BYDAY=-1SU
END:STANDARD
END:VTIMEZONE
BEGIN:VEVENT
SUMMARY:Lake District Walk and Skinny Dip - Cancelled
DTSTAMP:20230918T105550Z
SEQUENCE:0
UID:8029-5-0712e666d78c35a5e0181a336d457050@bn.org.uk
ORGANIZER;CN="David2017":notifications@bn.org.uk
DESCRIPTION:\n	CANCELLED DUE TO THE WEATHER FORECAST!!!\n\n\n\n	We plan 
	to do a clothing-optional walk from Mungrisdale in the North Lakes. It wil
	l take in one\, two or three Wainwright summits\, depending on the weather
	. The plan is for the last (or only) summit to be Bowscale Fell and then w
	alk down to Bowscale Tarn for a rather chilly skinny dip!\n\n\n\n	It is ty
	pical Lake District terrain\, with steep climbs and descents and boggy pat
	ches.\n\n\n\n	We will aim to start walking at 11:00.\n\n\n\n	For more deta
	ils or to confirm your attendance\, mailto: david.butterfield@bn.org.uk\n\
	n
DTSTART:20230927T100000Z
END:VEVENT
END:VCALENDAR
