BEGIN:VCALENDAR
VERSION:2.0
PRODID:-//InvisionCommunity Events 5.0.18//EN
METHOD:PUBLISH
CALSCALE:GREGORIAN
REFRESH-INTERVAL:PT15M
X-PUBLISHED-TTL:PT15M
X-WR-CALNAME:North West
NAME:North West
BEGIN:VTIMEZONE
TZID:Europe/London
TZURL:https://tzurl.org/zoneinfo/Europe/London
X-LIC-LOCATION:Europe/London
BEGIN:DAYLIGHT
TZOFFSETFROM:+0000
TZOFFSETTO:+0100
TZNAME:BST
DTSTART:20230326T020000Z
RRULE:FREQ=YEARLY;BYMONTH=3;BYDAY=-1SU
END:DAYLIGHT
BEGIN:STANDARD
TZOFFSETFROM:+0100
TZOFFSETTO:+0000
TZNAME:GMT
DTSTART:20231029T020000Z
RRULE:FREQ=YEARLY;BYMONTH=10;BYDAY=-1SU
END:STANDARD
END:VTIMEZONE
BEGIN:VEVENT
SUMMARY:Open Invitation to a Miniten Friendly Competition
DTSTAMP:20230904T080406Z
SEQUENCE:0
UID:8006-5-0712e666d78c35a5e0181a336d457050@bn.org.uk
ORGANIZER;CN="Grandma Jane":notifications@bn.org.uk
DESCRIPTION:\n	As part of their 90th celebrations Liverpool Sun and Air 
	Society invite you to come and play miniten.\n\n\n\n	This is a friendly co
	mpetition so come along and have a go.\n\n\n\n	Contact the Visitor Team to
	 book your place\, 07947 48 07 07 or info@lsas.org.uk\n\n
DTSTART;VALUE=DATE:20230917
END:VEVENT
END:VCALENDAR
