BEGIN:VCALENDAR
VERSION:2.0
PRODID:-//InvisionCommunity Events 5.0.18//EN
METHOD:PUBLISH
CALSCALE:GREGORIAN
REFRESH-INTERVAL:PT15M
X-PUBLISHED-TTL:PT15M
X-WR-CALNAME:Eastern
NAME:Eastern
BEGIN:VTIMEZONE
TZID:Europe/London
TZURL:https://tzurl.org/zoneinfo/Europe/London
X-LIC-LOCATION:Europe/London
BEGIN:DAYLIGHT
TZOFFSETFROM:+0000
TZOFFSETTO:+0100
TZNAME:BST
DTSTART:20230326T020000Z
RRULE:FREQ=YEARLY;BYMONTH=3;BYDAY=-1SU
END:DAYLIGHT
BEGIN:STANDARD
TZOFFSETFROM:+0100
TZOFFSETTO:+0000
TZNAME:GMT
DTSTART:20231029T020000Z
RRULE:FREQ=YEARLY;BYMONTH=10;BYDAY=-1SU
END:STANDARD
END:VTIMEZONE
BEGIN:VEVENT
SUMMARY:Peterborough Lido Skinny Dip
DTSTAMP:20230428T144739Z
SEQUENCE:0
UID:7728-8-0712e666d78c35a5e0181a336d457050@bn.org.uk
ORGANIZER;CN="Bare_Rick":notifications@bn.org.uk
DESCRIPTION:\n	\n		\n			Peterborough Lido Naturist Swim / Great British 
	Skinny Dip\n		\n\n		\n			 7:00pm to 9.00pm.  BN Members £12 / Non BN Me
	mbers £14\, Doors Open 6:30pm\n		\n\n		\n			Other dates 12 August \n		\n\
	n		\n			 \n		\n\n		\n			Eastern Region had a very enjoyable visit to the 
	Lido in 2019\, 2021 and 2022 and are pleased to announce that we have boo
	ked Peterborough Lido again for 4 naturist swims in 2023. This is a wonder
	ful example of a 1930s Lido with 3 heated pools. The cafe will be open for
	 snack and hot drinks.\n		\n\n		\n			 \n		\n\n		\n			Book via the BN Shop
	 \n		\n\n		\n			 \n		\n\n		\n			Travel to the Lido is easy. There is a la
	rge carpark next to the Lido and it is 15 minutes walk from the railway st
	ation (0.7 miles).\n		\n\n		\n			For those with mobility problems\; the po
	ol is basically on one level with good steps in the corners of the pool fo
	r access. \n		\n	\n\n\n\n	\n\n\n\n	\n\n
DTSTART:20230708T180000Z
DTEND:20230708T200000Z
END:VEVENT
END:VCALENDAR
