BEGIN:VCALENDAR
VERSION:2.0
PRODID:-//InvisionCommunity Events 5.0.18//EN
METHOD:PUBLISH
CALSCALE:GREGORIAN
REFRESH-INTERVAL:PT15M
X-PUBLISHED-TTL:PT15M
X-WR-CALNAME:South West
NAME:South West
BEGIN:VTIMEZONE
TZID:Europe/London
TZURL:https://tzurl.org/zoneinfo/Europe/London
X-LIC-LOCATION:Europe/London
BEGIN:DAYLIGHT
TZOFFSETFROM:+0000
TZOFFSETTO:+0100
TZNAME:BST
DTSTART:20230326T020000Z
RRULE:FREQ=YEARLY;BYMONTH=3;BYDAY=-1SU
END:DAYLIGHT
BEGIN:STANDARD
TZOFFSETFROM:+0100
TZOFFSETTO:+0000
TZNAME:GMT
DTSTART:20231029T020000Z
RRULE:FREQ=YEARLY;BYMONTH=10;BYDAY=-1SU
END:STANDARD
END:VTIMEZONE
BEGIN:VEVENT
SUMMARY:South West Camping Rally at Lower Poulza Post in Cornwall - 
	April 2023
DTSTAMP:20230314T213721Z
SEQUENCE:0
UID:7642-4-0712e666d78c35a5e0181a336d457050@bn.org.uk
ORGANIZER;CN="Andy Dyer":notifications@bn.org.uk
DESCRIPTION:\n	Andy and Jacki would be delighted to welcome you to their
	 beautiful home county of Cornwall for the Rally at Lower Poulza Post on 2
	0th April - 27th April 2023.  The site is small and secluded with plenty 
	of coast and woodland walks nearby.  Ideally situated for exploring Cornw
	all and Devon with a lots of lovely beaches within easy reach\, lots of pl
	aces of interest including Eden Project within an easy drive.  Nearby is 
	Bude\, Launceston\, Boscastle\, Tintagel and also both Bodmin and Dartmoor
	.  With only 12 Electric pitches and over half of these already booked\, 
	you need to complete and return the booking form asap.  There are 5 non e
	lectric pitches.  This site is suitable for tents\, caravans and motorhom
	es.  Events being laid on for the Rally will be Boules\, Cream Tea\, Fish
	 &amp\; Chip Night. If you require further information or the booking form
	\, please email southwestrep@bn.org.uk.\n\n
DTSTART;VALUE=DATE:20230420
DTEND;VALUE=DATE:20230428
END:VEVENT
END:VCALENDAR
