BEGIN:VCALENDAR
VERSION:2.0
PRODID:-//InvisionCommunity Events 5.0.18//EN
METHOD:PUBLISH
CALSCALE:GREGORIAN
REFRESH-INTERVAL:PT15M
X-PUBLISHED-TTL:PT15M
X-WR-CALNAME:North West
NAME:North West
BEGIN:VTIMEZONE
TZID:Europe/London
TZURL:https://tzurl.org/zoneinfo/Europe/London
X-LIC-LOCATION:Europe/London
BEGIN:DAYLIGHT
TZOFFSETFROM:+0000
TZOFFSETTO:+0100
TZNAME:BST
DTSTART:20240331T020000Z
RRULE:FREQ=YEARLY;BYMONTH=3;BYDAY=-1SU
END:DAYLIGHT
BEGIN:STANDARD
TZOFFSETFROM:+0100
TZOFFSETTO:+0000
TZNAME:GMT
DTSTART:20241027T020000Z
RRULE:FREQ=YEARLY;BYMONTH=10;BYDAY=-1SU
END:STANDARD
END:VTIMEZONE
BEGIN:VEVENT
SUMMARY:Bishampton - Naked Heart Walk / Skinny Dip
DTSTAMP:20230208T091803Z
SEQUENCE:0
UID:7544-5-0712e666d78c35a5e0181a336d457050@bn.org.uk
ORGANIZER;CN="Ron.O":notifications@bn.org.uk
DESCRIPTION:\n	A BHF Fundraising Event for BHF  in beautiful Bishampton
	.\n\n\n\n	Naked Heart Walk plus Skinny Dip organised by the venue.\n\n\n\n
		Tickets on sale via Eventbrite.\n\n\n\n	Overnight Accommodation is availa
	ble - Bookable direct here.\n\n\n\n	Dogs are welcome if kept on a lead.\n
	\n\n\n	T﻿here is ample free car parking\n\n\n\n	There are toilets situat
	ed at the start and finish points of the walk.\n\n\n\n	Leave your clothes 
	behind and feel the breeze on your skin as you raise vital funds for the B
	ritish Heart Foundation.\n\n\n\n	T﻿here are places to leave your clothes
	\, when the previous visitors have left - it is possible to leave your clo
	thes in your car - please check with the organisers when you arrive.\n\n\n
	\n	The Naked Heart Walks are organised by British Naturism to raise money 
	for the British Heart Foundation. All Naked Heart Walkers will receive:\n\
	n\n\n	A BHF medal at the end of the walk.\n\n\n\n	A fundraising pack and r
	egular emails to keep you on track.\n\n\n\n	Full support from the British 
	Heart Foundation to help you reach your target.\n\n\n\n	Heart and circulat
	ory diseases are the world’s biggest killers\, and they can affect any o
	f us\, including you. But thanks to the research the British Heart Foundat
	ion is funding\, there is hope. By backing the brightest scientific minds\
	, we have the power to find treatments and cures that could make the diffe
	rence between your parents living to old age or not\, your friend making i
	t to graduation or not\, your sister being a phone call away or not.\n\n\n
	\n	This event is a bold one\, just like our ambition to fund the science t
	hat keeps millions of hearts beating. From the bottom of our hearts\, than
	k you for signing up for the Naked Heart Walk and fundraising. \n\n\n\n	P
	ostcode WR10 2LY  - What3Words  encoding.thickened.flickers\n\n\n\n	Cont
	act the organiser: ron.ohare@bn.org.uk\n\n\n\n	\n\n\n\n	 \n\n
DTSTART:20240721T150000Z
DTEND:20240721T180000Z
END:VEVENT
END:VCALENDAR
