BEGIN:VCALENDAR
VERSION:2.0
PRODID:-//InvisionCommunity Events 5.0.18//EN
METHOD:PUBLISH
CALSCALE:GREGORIAN
REFRESH-INTERVAL:PT15M
X-PUBLISHED-TTL:PT15M
X-WR-CALNAME:Eastern
NAME:Eastern
BEGIN:VTIMEZONE
TZID:Europe/London
TZURL:https://tzurl.org/zoneinfo/Europe/London
X-LIC-LOCATION:Europe/London
BEGIN:DAYLIGHT
TZOFFSETFROM:+0000
TZOFFSETTO:+0100
TZNAME:BST
DTSTART:20230326T020000Z
RRULE:FREQ=YEARLY;BYMONTH=3;BYDAY=-1SU
END:DAYLIGHT
BEGIN:STANDARD
TZOFFSETFROM:+0100
TZOFFSETTO:+0000
TZNAME:GMT
DTSTART:20231029T020000Z
RRULE:FREQ=YEARLY;BYMONTH=10;BYDAY=-1SU
END:STANDARD
END:VTIMEZONE
BEGIN:VEVENT
SUMMARY:Nettlebed Naturist Walk
DTSTAMP:20230206T121350Z
SEQUENCE:0
UID:7534-8-0712e666d78c35a5e0181a336d457050@bn.org.uk
ORGANIZER;CN="Andrew Roch":notifications@bn.org.uk
DESCRIPTION:\n	Join us for a 7 mile naturist walk starting at/returning 
	to Nettlebed\, Oxfordshire\, through the west end of the Chilterns.  F
	riday 30 June 2023\, 12.00pm to 5.30pm.\n\n\n\n	The walk is quite hilly wi
	th a few steep climbs.  The circular route follows a network of public f
	ootpaths including the Chiltern Way\, Shakespeare’s Way and Oxfordshire 
	Way\, through the Chilterns in woodland and fields before heading back to 
	the start point. The walk is slightly less remote than some so we are more
	 likely to encounter other walkers in this popular region.\n\n\n\n	The eve
	nt is being organised by British Naturism Eastern Region in association wi
	th the Milton Keynes Naturist Meet and Greet Group.  It is open to all m
	embers of British Naturism and other naturist (walking) groups\; anyone ne
	w to naturism or to naturist walking is welcome too.  When booking\, ple
	ase state whether you are a member of BN or other naturist groups.\n\n\n
	\n	 For further information or to book onto this event\, please contact A
	ndrew Roch or Amanda\, Walks Coordinator\, via email: easternwalks@bn.org
	.uk giving your name\, mobile phone number and membership status.  Deta
	ils of the meeting point and other information will be provided when your 
	booking is confirmed.\n\n
DTSTART:20230630T110000Z
END:VEVENT
END:VCALENDAR
