BEGIN:VCALENDAR
VERSION:2.0
PRODID:-//InvisionCommunity Events 5.0.18//EN
METHOD:PUBLISH
CALSCALE:GREGORIAN
REFRESH-INTERVAL:PT15M
X-PUBLISHED-TTL:PT15M
X-WR-CALNAME:Eastern
NAME:Eastern
BEGIN:VTIMEZONE
TZID:Europe/London
TZURL:https://tzurl.org/zoneinfo/Europe/London
X-LIC-LOCATION:Europe/London
BEGIN:DAYLIGHT
TZOFFSETFROM:+0000
TZOFFSETTO:+0100
TZNAME:BST
DTSTART:20250330T020000Z
RRULE:FREQ=YEARLY;BYMONTH=3;BYDAY=-1SU
END:DAYLIGHT
BEGIN:STANDARD
TZOFFSETFROM:+0100
TZOFFSETTO:+0000
TZNAME:GMT
DTSTART:20251026T020000Z
RRULE:FREQ=YEARLY;BYMONTH=10;BYDAY=-1SU
END:STANDARD
END:VTIMEZONE
BEGIN:VEVENT
SUMMARY:Cottered Naturist Walk
DTSTAMP:20230205T190139Z
SEQUENCE:0
UID:7530-8-0712e666d78c35a5e0181a336d457050@bn.org.uk
ORGANIZER;CN="Andrew Roch":notifications@bn.org.uk
DESCRIPTION:\n	Join us for an 8 mile naturist walk starting at/returning
	 to Cottered\, Hertfordshire\, in the Old Bourne Valley.  Friday 9 May
	 2025\,  12.30pm to 5.00pm.\n\n\n\n	The walk is mainly flat passing thro
	ugh grassland\, agricultural fields and open countryside.  The circular 
	route follows a network of public footpaths\, then an old roman road befor
	e heading back to the start point across more open countryside.\n\n\n\n	Th
	e event is being organised by British Naturism Eastern Region in associati
	on with the Milton Keynes Naturist Meet and Greet Group.  It is open to 
	all members of British Naturism and other naturist (walking) groups\; anyo
	ne new to naturism or to naturist walking is welcome too.  When booking\
	, please state whether you are a member of BN or other naturist groups.\
	n\n\n\n	For further information please contact Andrew and Amanda Roch\, Wa
	lks Coordinator\, via email: easternwalks@bn.org.uk .  Details of the 
	meeting point and other information will be provided when your booking is 
	confirmed and the walk recce completed. To register for the walk please co
	mplete the form which can be found here. (If you are unable to complete th
	e form please send me an email with your name and mobile number)\n\n\n\n	R
	egister Here\n\n
DTSTART:20250509T113000Z
END:VEVENT
END:VCALENDAR
