BEGIN:VCALENDAR
VERSION:2.0
PRODID:-//InvisionCommunity Events 5.0.18//EN
METHOD:PUBLISH
CALSCALE:GREGORIAN
REFRESH-INTERVAL:PT15M
X-PUBLISHED-TTL:PT15M
X-WR-CALNAME:South West
NAME:South West
BEGIN:VTIMEZONE
TZID:Europe/London
TZURL:https://tzurl.org/zoneinfo/Europe/London
X-LIC-LOCATION:Europe/London
BEGIN:DAYLIGHT
TZOFFSETFROM:+0000
TZOFFSETTO:+0100
TZNAME:BST
DTSTART:20230326T020000Z
RRULE:FREQ=YEARLY;BYMONTH=3;BYDAY=-1SU
END:DAYLIGHT
BEGIN:STANDARD
TZOFFSETFROM:+0100
TZOFFSETTO:+0000
TZNAME:GMT
DTSTART:20231029T020000Z
RRULE:FREQ=YEARLY;BYMONTH=10;BYDAY=-1SU
END:STANDARD
END:VTIMEZONE
BEGIN:VEVENT
SUMMARY:GBSD and Meet n Greet Beach Day at Ringstead Bay
DTSTAMP:20230127T105429Z
SEQUENCE:0
UID:7496-4-0712e666d78c35a5e0181a336d457050@bn.org.uk
ORGANIZER;CN="Andy Dyer":notifications@bn.org.uk
DESCRIPTION:\n	Everyone is welcome to join us for a Great British Skinny
	 Dip and Meet n Greet Beach Day at Ringstead Bay in Dorset. \n\n\n\n	Join
	 us for the day and a Skinny Dip at this lovely beach in Dorset.\n\n\n\n	W
	e will plan to take a mass dip at noon!!!\n \n\n\n\n	Park in ticket displ
	ay car park\n\n\n\n	Full details can be obtained soon from https://www.gr
	eatbritishskinnydip.co.uk/.\n\n\n\n	Details for the beach can be found at:
	\n\n\n\n\n	If you want to raise funds for the British Heart Foundation w
	ith your dip\, please use the following link below\, and either make a don
	ation or create your own page to ask your friends and family for donations
	!\n\n
DTSTART:20230701T100000Z
DTEND:20230701T143000Z
END:VEVENT
END:VCALENDAR
