BEGIN:VCALENDAR
VERSION:2.0
PRODID:-//InvisionCommunity Events 5.0.18//EN
METHOD:PUBLISH
CALSCALE:GREGORIAN
REFRESH-INTERVAL:PT15M
X-PUBLISHED-TTL:PT15M
X-WR-CALNAME:South West
NAME:South West
BEGIN:VTIMEZONE
TZID:Europe/London
TZURL:https://tzurl.org/zoneinfo/Europe/London
X-LIC-LOCATION:Europe/London
BEGIN:DAYLIGHT
TZOFFSETFROM:+0000
TZOFFSETTO:+0100
TZNAME:BST
DTSTART:20230326T020000Z
RRULE:FREQ=YEARLY;BYMONTH=3;BYDAY=-1SU
END:DAYLIGHT
BEGIN:STANDARD
TZOFFSETFROM:+0100
TZOFFSETTO:+0000
TZNAME:GMT
DTSTART:20231029T020000Z
RRULE:FREQ=YEARLY;BYMONTH=10;BYDAY=-1SU
END:STANDARD
END:VTIMEZONE
BEGIN:VEVENT
SUMMARY:Meet & Greet Beach Day at Studland Naturist Beach
DTSTAMP:20230127T103546Z
SEQUENCE:0
UID:7493-4-0712e666d78c35a5e0181a336d457050@bn.org.uk
ORGANIZER;CN="Andy Dyer":notifications@bn.org.uk
DESCRIPTION:\n	Bring a picnic including liquid refreshments and enjoy a 
	day on this fantastic beach. Anyone wishing to bring along suitable beach
	 games are welcome to\, but please remember other beach users. Look out f
	or the BN flag on the Knoll beach side of the central path/fire break 6 
	from Ferry Road\, approx. midway along the naturist beach.Café &amp\; toi
	let facilities can be found at Knoll and Shell beach car parks.  National
	 Trust members can park free in the NT beach car parks – Current NT memb
	ership card required.The Wilts &amp\; Dorset\, Bournemouth to Swanage bus\
	, Breezer 50\, bypasses the ferry queues and stops at Shell Bay\, Firebrea
	k 6 and Knoll Beach. Ferry toll booths accept both card and cash payments
	.Dogs also welcome but must be on a short lead (under 2m) May – Septembe
	r inclusive. Cattle graze on the heathland to the rear of the beach so ple
	ase be alert to this and put dogs on a lead in these areas. Reminder\, St
	udland area is a high fire risk area and as such is a “No BBQ or Open Fi
	re Zone” this includes the beach.                   
	                                            
	               Bring a friend or family along and introduce them t
	o naturism &amp\; BN!Approx: 10:30 – 15:30 subject to weather. Do not 
	forget your sun protection!!!  😊 Any updates for the day will be post
	ed here. \n\n
DTSTART:20230528T093000Z
DTEND:20230528T143000Z
END:VEVENT
END:VCALENDAR
