BEGIN:VCALENDAR
VERSION:2.0
PRODID:-//InvisionCommunity Events 5.0.18//EN
METHOD:PUBLISH
CALSCALE:GREGORIAN
REFRESH-INTERVAL:PT15M
X-PUBLISHED-TTL:PT15M
X-WR-CALNAME:London and South East (LASER)
NAME:London and South East (LASER)
BEGIN:VTIMEZONE
TZID:Europe/London
TZURL:https://tzurl.org/zoneinfo/Europe/London
X-LIC-LOCATION:Europe/London
BEGIN:DAYLIGHT
TZOFFSETFROM:+0000
TZOFFSETTO:+0100
TZNAME:BST
DTSTART:20230326T020000Z
RRULE:FREQ=YEARLY;BYMONTH=3;BYDAY=-1SU
END:DAYLIGHT
BEGIN:STANDARD
TZOFFSETFROM:+0100
TZOFFSETTO:+0000
TZNAME:GMT
DTSTART:20231029T020000Z
RRULE:FREQ=YEARLY;BYMONTH=10;BYDAY=-1SU
END:STANDARD
END:VTIMEZONE
BEGIN:VEVENT
SUMMARY:LASER - Annual Meeting. Online
DTSTAMP:20230111T074601Z
SEQUENCE:0
UID:7460-7-0712e666d78c35a5e0181a336d457050@bn.org.uk
ORGANIZER;CN="Nigel_Newman":notifications@bn.org.uk
DESCRIPTION:\n	To allow the maximum number of people to attend\, and fol
	lowing the success of last year's online AGM\, we are going to hold this v
	ia Zoom. Please notify the secretary of any items for the agenda with one 
	month's notice. (NB. Just in case of any confusion - at one point we did t
	hink of having this on 6th May\, but that is now the date of the Coronatio
	n\, so the original date of 13th May still stands). There has been a lot g
	oing on\, with new events and new people joining the Team - so this will b
	e an opportunity to meet them and learn about how LASER may be restructure
	d in terms of who does what. To register your interest contact\, the Secre
	tary: nigel.newman@bn.org.uk\n\n
DTSTART:20230513T140000Z
END:VEVENT
END:VCALENDAR
