BEGIN:VCALENDAR
VERSION:2.0
PRODID:-//InvisionCommunity Events 5.0.18//EN
METHOD:PUBLISH
CALSCALE:GREGORIAN
REFRESH-INTERVAL:PT15M
X-PUBLISHED-TTL:PT15M
X-WR-CALNAME:South West
NAME:South West
BEGIN:VTIMEZONE
TZID:Europe/London
TZURL:https://tzurl.org/zoneinfo/Europe/London
X-LIC-LOCATION:Europe/London
BEGIN:DAYLIGHT
TZOFFSETFROM:+0000
TZOFFSETTO:+0100
TZNAME:BST
DTSTART:20220327T020000Z
RRULE:FREQ=YEARLY;BYMONTH=3;BYDAY=-1SU
END:DAYLIGHT
BEGIN:STANDARD
TZOFFSETFROM:+0100
TZOFFSETTO:+0000
TZNAME:GMT
DTSTART:20221030T020000Z
RRULE:FREQ=YEARLY;BYMONTH=10;BYDAY=-1SU
END:STANDARD
END:VTIMEZONE
BEGIN:VEVENT
SUMMARY:Dine Naked Bristol: games night​ 🏓🎲🌭🍺
DTSTAMP:20220818T121211Z
SEQUENCE:0
UID:7141-4-0712e666d78c35a5e0181a336d457050@bn.org.uk
ORGANIZER;CN="willb":notifications@bn.org.uk
DESCRIPTION:\n	  🎲🏓 Dine Naked Bristol is back! 6.30pm Sun 28th A
	ugust at Replay\, Cheltenham Road 🌭 🍺 \n\n\n\n	We're having an eveni
	ng of great food\, great drinks\, and great games - all naked. We're headi
	ng to Replay\, a fun and friendly board game cafe/bar in the heart of Bris
	tol\, with a huge collection of games\, and even table tennis and table fo
	otball in the basement! We'll eat finger-licking vegetarian\, vegan and gl
	uten free street food made with passion and love by Hungry Meeples.\n\n\n\
	n	 Tickets are £24.50+bf\, and are available here\n\n\n\n	Tickets include
	 a main and a dessert from these options:\n\n\n\n	Mains:\n\n\n\n		Hotdog (
	VG\, GFO) 9 inches long vegan &amp\; gluten-free frankfurter in a jumbo ho
	t dog roll with mustard and smoky barbecue sauce topped with crispy onions
	. Served with fries.\n	\n	\n		Moving mountain burger (VG) Wheat and soy pr
	otein patty topped with lettuce\, tomato\, onion\, gherkins &amp\; juicy b
	urger relish. Served with fries.\n	\n	\n		Pulled jack sub (VG\, GFO) Tende
	r jackfruit in a smokey bbq sauce topped with lettuce\, onion\, tomato and
	 gherkins.  Served with fries.\n	\n\n	Dessert options:\n\n\n\n		Salted ca
	ramel cheesecake (VG\, GF)\n	\n	\n		Luxury Chocolate fudgecake\n	\n\n	(VG=
	Vegan\, GF=Gluten free\, O=Option available)\n\n\n\n	 \n\n\n\n	Questions?
	\n\n\n\n		See our frequently asked questions page.\n	\n	\n		Facebook: face
	book.com/dinenkd\n	\n	\n		Twitter: twitter.com/dinenaked\n	\n	\n		Booking 
	queries/refunds: hello@dinenaked.co.uk\n	\n
DTSTART:20220828T173000Z
END:VEVENT
END:VCALENDAR
