BEGIN:VCALENDAR
VERSION:2.0
PRODID:-//InvisionCommunity Events 5.0.18//EN
METHOD:PUBLISH
CALSCALE:GREGORIAN
REFRESH-INTERVAL:PT15M
X-PUBLISHED-TTL:PT15M
X-WR-CALNAME:North West
NAME:North West
BEGIN:VTIMEZONE
TZID:Europe/London
TZURL:https://tzurl.org/zoneinfo/Europe/London
X-LIC-LOCATION:Europe/London
BEGIN:DAYLIGHT
TZOFFSETFROM:+0000
TZOFFSETTO:+0100
TZNAME:BST
DTSTART:20220327T020000Z
RRULE:FREQ=YEARLY;BYMONTH=3;BYDAY=-1SU
END:DAYLIGHT
BEGIN:STANDARD
TZOFFSETFROM:+0100
TZOFFSETTO:+0000
TZNAME:GMT
DTSTART:20221030T020000Z
RRULE:FREQ=YEARLY;BYMONTH=10;BYDAY=-1SU
END:STANDARD
END:VTIMEZONE
BEGIN:VEVENT
SUMMARY:IDENTITY N@T - Diversity & Inclusivity Celebration @ Liverpo
	ol
DTSTAMP:20220808T081721Z
SEQUENCE:0
UID:7123-5-0712e666d78c35a5e0181a336d457050@bn.org.uk
ORGANIZER;CN="Grandma Jane":notifications@bn.org.uk
DESCRIPTION:\n	A Weekend-long Celebration of Identity\, Diversity\, Incl
	usivity and Naturism.\n\n\n\n	IDENTITY N@T\n\n\n\n	\n\n\n	 \n\n\n\n	\n		D
	IVERSITY   INCLUSIVITY\n	\n\n	\n		NATURISM\n	\n\n	\n		        
	                    Welcome Game\n	\n\n	\n		      
	                      Spa Night\n	\n\n	\n		      
	                      Rainbow Duck Race\n	\n\n	\n		
	                            Rainbow Theme Body Pai
	nting                                  \n	\n
	\n	\n		                                  IDENTITY GALA 
	MEAL\n	\n\n	\n		                            Lip-Sync Raffl
	e\n	\n\n	\n		                            Karaoke\n	\n
	\n	\n		                            Afternoon Tea\n	\n
	\n	\n		                                  HOLI POWDER SKIR
	MISH \n	\n\n	\n		                            B.y.o. bbq\
	n	\n\n	\n		                                     CONTACT
	 VISITOR TEAM \n	\n\n	\n		                             
	        on 07947 480707 \n	\n\n	\n		               
	                      or info@lsas.org.uk\n	\n\n	\n		Please see
	 the attached Event Flyer below to choose your meals\, which need to be bo
	oked in advance\, by Tues 23rd Aug.\n	\n\n	\n		All visitors should book Ca
	mping and Day Visits in advance with the Visitor Team ASAP. \n	\n\n	\n		
	 \n	\n\n	\n		 \n	\n\n\n\n	 \n\n\n\n	August - Diversity and Inclusivity 
	Event Flyer.pdf\n\n\nIDENTITY N@T flyer.pdf
DTSTART;VALUE=DATE:20220826
DTEND;VALUE=DATE:20220830
END:VEVENT
END:VCALENDAR
