BEGIN:VCALENDAR
VERSION:2.0
PRODID:-//InvisionCommunity Events 5.0.18//EN
METHOD:PUBLISH
CALSCALE:GREGORIAN
REFRESH-INTERVAL:PT15M
X-PUBLISHED-TTL:PT15M
X-WR-CALNAME:South West
NAME:South West
BEGIN:VTIMEZONE
TZID:Europe/London
TZURL:https://tzurl.org/zoneinfo/Europe/London
X-LIC-LOCATION:Europe/London
BEGIN:DAYLIGHT
TZOFFSETFROM:+0000
TZOFFSETTO:+0100
TZNAME:BST
DTSTART:20220327T020000Z
RRULE:FREQ=YEARLY;BYMONTH=3;BYDAY=-1SU
END:DAYLIGHT
BEGIN:STANDARD
TZOFFSETFROM:+0100
TZOFFSETTO:+0000
TZNAME:GMT
DTSTART:20221030T020000Z
RRULE:FREQ=YEARLY;BYMONTH=10;BYDAY=-1SU
END:STANDARD
END:VTIMEZONE
BEGIN:VEVENT
SUMMARY:Studland Beach Day
DTSTAMP:20220525T134637Z
SEQUENCE:0
UID:7008-4-0712e666d78c35a5e0181a336d457050@bn.org.uk
ORGANIZER;CN="peter.edwards":notifications@bn.org.uk
DESCRIPTION:\n	Update 27/08/2022:  Unfortunately at the last minute I'm
	 unable to lead this Meet and Greet Beach Day.  Anyone going along head t
	owards the intended meeting area and try to look out for or display orange
	 BN towels or blue ones! etc. to try and meet with other BN members\, coul
	d be needle in a haystack job!  Hoping another team member can stand in.\
	n\n\n\n	Meet &amp\; Greet Beach Day that ties in with the NKD Festival an
	d Splashdown - All are welcome.  \n\n	Bring a picnic including liquid ref
	reshments and enjoy a day on this fantastic beach. \n\n	Anyone wishing to
	 bring along suitable beach games are welcome to but remember other beach 
	users.\nLook out for the BN flag on the Knoll beach side of the central pa
	th/fire break 6 from Ferry Road.  \n\n	Café &amp\; toilet facilities can
	 be found at Knoll and Shell beach car parks.  \n\n	National Trust member
	s can park free in the NT beach car parks – Current NT membership card r
	equired.\n\n	The Wilts &amp\; Dorset\, Bournemouth to Swanage bus\, Breeze
	r 50\, bypasses the ferry queues and stops at Shell Bay\, Firebreak 6 and 
	Knoll Beach. \n\n	Ferry toll booths accept both card and cash payments. 
	\n\n\n\n	Local naturist camping at Studland Summer Camp\n\n	Dogs also welc
	ome but must be on a short lead (under 2m) May – September inclusive. Ca
	ttle graze on the heathland to the rear of the beach so please be alert to
	 this and put dogs on a lead in these areas. \n\n	Reminder\, Studland are
	a is a high fire risk area and as such is a “No BBQ or Open Fire Zone”
	 this includes the beach.                         
	                                               
	      \n\n	Bring a friend or family along and introduce them to naturis
	m &amp\; BN!\n\n	Approx: 10:45 – 15:30 subject to weather. \n\n	Do not 
	forget your sun protection!!!  😊 \n\n	Any updates for the day will be
	 posted here.\n\n
DTSTART:20220828T094500Z
DTEND:20220828T143000Z
END:VEVENT
END:VCALENDAR
