BEGIN:VCALENDAR
VERSION:2.0
PRODID:-//InvisionCommunity Events 5.0.18//EN
METHOD:PUBLISH
CALSCALE:GREGORIAN
REFRESH-INTERVAL:PT15M
X-PUBLISHED-TTL:PT15M
X-WR-CALNAME:Scotland and North East (SANER)
NAME:Scotland and North East (SANER)
BEGIN:VTIMEZONE
TZID:Europe/London
TZURL:https://tzurl.org/zoneinfo/Europe/London
X-LIC-LOCATION:Europe/London
BEGIN:DAYLIGHT
TZOFFSETFROM:+0000
TZOFFSETTO:+0100
TZNAME:BST
DTSTART:20220327T020000Z
RRULE:FREQ=YEARLY;BYMONTH=3;BYDAY=-1SU
END:DAYLIGHT
BEGIN:STANDARD
TZOFFSETFROM:+0100
TZOFFSETTO:+0000
TZNAME:GMT
DTSTART:20221030T020000Z
RRULE:FREQ=YEARLY;BYMONTH=10;BYDAY=-1SU
END:STANDARD
END:VTIMEZONE
BEGIN:VEVENT
SUMMARY:Howick Hall Garden\, Northumberland
DTSTAMP:20220503T214908Z
SEQUENCE:0
UID:6953-3-0712e666d78c35a5e0181a336d457050@bn.org.uk
ORGANIZER;CN="Falkirkdan":notifications@bn.org.uk
DESCRIPTION:\n	Where Howick Hall Gardens\, Northumberland\n\n\n\n	When 
	 13.8.22  19:00-21:00\n\n\n\n	Who @Falkirkdan\n\n\n\n	How BN Shop\n\n\n\
	n	Price £8\n\n\n\n	What picnics\, refreshments\, sturdy shoes advised\n\n
	\n\n	 \n\n\n\n	 \n\n\n\n	Spend a wonderful evening in these magnificent 
	gardens which at this time of year should be at their best.   Woodland w
	alks\, and garden areas\,  stout footwear is advised.  Some areas are no
	t suitable for wheelchairs.  Parking in the Main Car Park which will be s
	taffed.  Bring your own picnic as the cafe will not be open.  Open to bo
	th BN members and other naturists\n\n\n\n	BN members £8  Non Members £1
	0 Book here BN Shop\n\n\n\n	\n		\n	\n\n\n\n	 \n\n\n\n	\n\n
DTSTART:20220813T180000Z
DTEND:20220813T200000Z
END:VEVENT
END:VCALENDAR
