BEGIN:VCALENDAR
VERSION:2.0
PRODID:-//InvisionCommunity Events 5.0.18//EN
METHOD:PUBLISH
CALSCALE:GREGORIAN
REFRESH-INTERVAL:PT15M
X-PUBLISHED-TTL:PT15M
X-WR-CALNAME:North West
NAME:North West
BEGIN:VTIMEZONE
TZID:Europe/London
TZURL:https://tzurl.org/zoneinfo/Europe/London
X-LIC-LOCATION:Europe/London
BEGIN:DAYLIGHT
TZOFFSETFROM:+0000
TZOFFSETTO:+0100
TZNAME:BST
DTSTART:20220327T020000Z
RRULE:FREQ=YEARLY;BYMONTH=3;BYDAY=-1SU
END:DAYLIGHT
BEGIN:STANDARD
TZOFFSETFROM:+0100
TZOFFSETTO:+0000
TZNAME:GMT
DTSTART:20221030T020000Z
RRULE:FREQ=YEARLY;BYMONTH=10;BYDAY=-1SU
END:STANDARD
END:VTIMEZONE
BEGIN:VEVENT
SUMMARY:Adlington Gardens Naked Heart Walk
DTSTAMP:20220323T143153Z
SEQUENCE:0
UID:6800-5-0712e666d78c35a5e0181a336d457050@bn.org.uk
ORGANIZER;CN="john.rodgers":notifications@bn.org.uk
DESCRIPTION:\n	 \n\n\n\n	Save The Date\n\n\n\n	BHF Charity Walk in the 
	North West Region\, will be on Wednesday 20th July at Adlington Hall and
	 Gardens in Cheshire\, www.adlingtonhall.com\n\n\n\n	Bookable here http
	s://www.eventbrite.co.uk/e/naked-heart-walk-adlington-hall-gardens-tickets
	-333427559807\n\n\n\n	20 July 2022 15:00 \n\n\n\n	Adlington Hall and Gard
	ens\, Mill Lane\, Adlington\,SK10 4LF\n\n\n\n	£15 pp\n\n\n\n	\n		\n			\n	
				 \n			\n\n			\n				 \n			\n\n			\n				Join us on this 2km sponsored N
	aked walk around the beautiful Adlington Hall and Gardens in Cheshire this
	 July.\n			\n		\n	\n\n\n\n	\n		\n			\n				\n					Leave your clothes behind
	 and feel the breeze on your skin as you raise vital funds for the British
	 Heart Foundation.\n				\n\n				\n					The Naked Heart Walks are organised
	 by British Naturism to raise money for the British Heart Foundation. All 
	Naked Heart Walkers will receive:\n				\n\n				\n						A BHF medal at the 
	end of the walk\n					\n					\n						A fundraising pack and regular emails
	 to keep you on track\n					\n					\n						Full support from the British H
	eart Foundation to help you reach your target\n					\n					\n						A bottl
	e of water &amp\; snack\n					\n				\n					There are 2 starting times for 
	this walk at Adlington Hall and Gardens\, 3pm and 6pm\, you can arrive up 
	to an hour before your booked start time. Free parking is available on sit
	e\, walkers will be asked to leave their clothes on\, and will be directed
	 to the gazebo to change.\n				\n\n				\n					Adlington Hall and Gardens w
	ill be closed to the general public and only those registered for the walk
	 will be allowed on site.\n				\n\n				\n					Heart and circulatory diseas
	es are the world’s biggest killers\, and they can affect any of us\, inc
	luding you. But thanks to the research the British Heart Foundation is fun
	ding\, there is hope. By backing the brightest scientific minds\, we have 
	the power to find treatments and cures that could make the difference betw
	een your parents living to old age or not\, your friend making it to gradu
	ation or not\, your sister being a phone call away or not.\n				\n\n				\n
						This event is a bold one\, just like our ambition to fund the science
	 that keeps millions of hearts beating. From the bottom of our hearts\, th
	ank you for signing up for the Naked Heart Walk and fundraising\n				\n			
	\n		\n	\n\n
DTSTART:20220720T140000Z
DTEND:20220720T190000Z
END:VEVENT
END:VCALENDAR
