BEGIN:VCALENDAR
VERSION:2.0
PRODID:-//InvisionCommunity Events 5.0.18//EN
METHOD:PUBLISH
CALSCALE:GREGORIAN
REFRESH-INTERVAL:PT15M
X-PUBLISHED-TTL:PT15M
X-WR-CALNAME:North West
NAME:North West
BEGIN:VTIMEZONE
TZID:Europe/London
TZURL:https://tzurl.org/zoneinfo/Europe/London
X-LIC-LOCATION:Europe/London
BEGIN:DAYLIGHT
TZOFFSETFROM:+0000
TZOFFSETTO:+0100
TZNAME:BST
DTSTART:20220327T020000Z
RRULE:FREQ=YEARLY;BYMONTH=3;BYDAY=-1SU
END:DAYLIGHT
BEGIN:STANDARD
TZOFFSETFROM:+0100
TZOFFSETTO:+0000
TZNAME:GMT
DTSTART:20221030T020000Z
RRULE:FREQ=YEARLY;BYMONTH=10;BYDAY=-1SU
END:STANDARD
END:VTIMEZONE
BEGIN:VEVENT
SUMMARY:NW Region EGM
DTSTAMP:20220217T085649Z
SEQUENCE:0
UID:6750-5-0712e666d78c35a5e0181a336d457050@bn.org.uk
ORGANIZER;CN="Ron.O":notifications@bn.org.uk
DESCRIPTION:\n	North West Region EGM March 15th 8pm via Zoom.\n\n\n\n	If
	 you would like to attend this open meeting for NW Members\,\n\n\n\n	Email
	  mark_cowley@me.com  -  to register for the Zoom link.\n\n\n\n	The lin
	k will be sent to you later\n\n\n\n	We look forward to your presence.\n\n\
	n\n	 \n\n\n\n	\n
DTSTART:20220315T200000Z
DTEND:20220315T220000Z
END:VEVENT
END:VCALENDAR
