BEGIN:VCALENDAR
VERSION:2.0
PRODID:-//InvisionCommunity Events 5.0.18//EN
METHOD:PUBLISH
CALSCALE:GREGORIAN
REFRESH-INTERVAL:PT15M
X-PUBLISHED-TTL:PT15M
X-WR-CALNAME:South West
NAME:South West
BEGIN:VTIMEZONE
TZID:Europe/London
TZURL:https://tzurl.org/zoneinfo/Europe/London
X-LIC-LOCATION:Europe/London
BEGIN:DAYLIGHT
TZOFFSETFROM:+0000
TZOFFSETTO:+0100
TZNAME:BST
DTSTART:20220327T020000Z
RRULE:FREQ=YEARLY;BYMONTH=3;BYDAY=-1SU
END:DAYLIGHT
BEGIN:STANDARD
TZOFFSETFROM:+0100
TZOFFSETTO:+0000
TZNAME:GMT
DTSTART:20221030T020000Z
RRULE:FREQ=YEARLY;BYMONTH=10;BYDAY=-1SU
END:STANDARD
END:VTIMEZONE
BEGIN:VEVENT
SUMMARY:Plymouth Sun Club
DTSTAMP:20220121T103841Z
SEQUENCE:0
UID:6614-4-0712e666d78c35a5e0181a336d457050@bn.org.uk
ORGANIZER;CN="Graham and Julia":notifications@bn.org.uk
DESCRIPTION:\n	The club offers twice monthly\, Monday evening Skinny Dip
	s in Plympton Pool\, just on the outskirts of Plymouth.\n\n\n\n	The hour l
	ong session commences at 8.30pm and costs £5 for members and £7 for non 
	members.\n\n\n\n	No need to book\, just pay with cash on the door. Please 
	bring a photo ID if this is your first visit.\n\n\n\n	A condition of the p
	ool hire is a minimum age of 18 years.\n\n\n\n	After the swim many go onto
	 the Stannary Court Pub (Weatherspoons) nearby for a drink and chat and pe
	rhaps something to eat.\n\n\n\n	You will be sure of a warm welcome\n\n
DTSTART:20221107T203000Z
DTEND:20221107T213000Z
END:VEVENT
END:VCALENDAR
