BEGIN:VCALENDAR
VERSION:2.0
PRODID:-//InvisionCommunity Events 5.0.18//EN
METHOD:PUBLISH
CALSCALE:GREGORIAN
REFRESH-INTERVAL:PT15M
X-PUBLISHED-TTL:PT15M
X-WR-CALNAME:Eastern
NAME:Eastern
BEGIN:VTIMEZONE
TZID:Europe/London
TZURL:https://tzurl.org/zoneinfo/Europe/London
X-LIC-LOCATION:Europe/London
BEGIN:DAYLIGHT
TZOFFSETFROM:+0000
TZOFFSETTO:+0100
TZNAME:BST
DTSTART:20220327T020000Z
RRULE:FREQ=YEARLY;BYMONTH=3;BYDAY=-1SU
END:DAYLIGHT
BEGIN:STANDARD
TZOFFSETFROM:+0100
TZOFFSETTO:+0000
TZNAME:GMT
DTSTART:20221030T020000Z
RRULE:FREQ=YEARLY;BYMONTH=10;BYDAY=-1SU
END:STANDARD
END:VTIMEZONE
BEGIN:VEVENT
SUMMARY:Christmas Common\, Watlington - Naturist Walk
DTSTAMP:20220116T195133Z
SEQUENCE:0
UID:6589-8-0712e666d78c35a5e0181a336d457050@bn.org.uk
ORGANIZER;CN="Andrew Roch":notifications@bn.org.uk
DESCRIPTION:\n	Join us for a 7.2 mile circular naturist walk starting at
	/returning to Christmas Common\, near Watlington\, Oxfordshire including s
	ections of the Chiltern Way and open access land.  Friday 29 April 2022\
	, 12.30pm to 5.30pm.\n\n\n\n	This is quite a demanding walk with significa
	nt inclines at several places.   The route starts from a National Trust 
	Car Park (payment required unless a NT Member)  passing over open access 
	land with wonderful views and several beech woods\, back to a finish for s
	ome at a pub near the start point or alternatively straight back to the c
	ar park. Part of the route is unavoidably along a stretch of road and wit
	h two hamlets en route some covering will be required.\n\n\n\n	The event i
	s being organised by British Naturism Eastern Region in association with t
	he Milton Keynes Naturist Meet and Greet Group.  It is open to all membe
	rs of British Naturism and other naturist (walking) groups\; anyone new to
	 naturism or to naturist walking is welcome too.  When booking\, please 
	state whether you are a member of BN or other naturist groups.\n\n\n\n	
	 You must be fit enough to walk up to eight miles\, including a number of
	 moderate hills.  \n\n\n\n	 For further information or to book onto thi
	s event\, please contact Andrew Roch or Amanda\, Walks Coordinator\, via e
	mail: easternwalks@bn.org.uk giving your name\, mobile phone number and 
	membership status.  Details of the meeting point and other information w
	ill be provided when your booking is confirmed.\n\n
DTSTART:20220429T113000Z
END:VEVENT
END:VCALENDAR
