BEGIN:VCALENDAR
VERSION:2.0
PRODID:-//InvisionCommunity Events 5.0.18//EN
METHOD:PUBLISH
CALSCALE:GREGORIAN
REFRESH-INTERVAL:PT15M
X-PUBLISHED-TTL:PT15M
X-WR-CALNAME:Eastern
NAME:Eastern
BEGIN:VTIMEZONE
TZID:Europe/London
TZURL:https://tzurl.org/zoneinfo/Europe/London
X-LIC-LOCATION:Europe/London
BEGIN:DAYLIGHT
TZOFFSETFROM:+0000
TZOFFSETTO:+0100
TZNAME:BST
DTSTART:20220327T020000Z
RRULE:FREQ=YEARLY;BYMONTH=3;BYDAY=-1SU
END:DAYLIGHT
BEGIN:STANDARD
TZOFFSETFROM:+0100
TZOFFSETTO:+0000
TZNAME:GMT
DTSTART:20221030T020000Z
RRULE:FREQ=YEARLY;BYMONTH=10;BYDAY=-1SU
END:STANDARD
END:VTIMEZONE
BEGIN:VEVENT
SUMMARY:Great Missenden Naturist Walk
DTSTAMP:20220116T174924Z
SEQUENCE:0
UID:6584-8-0712e666d78c35a5e0181a336d457050@bn.org.uk
ORGANIZER;CN="Andrew Roch":notifications@bn.org.uk
DESCRIPTION:\n	Join us for an 8 mile naturist walk starting at/returning
	 to Great Missenden\, Buckinghamshire\, through the Misbourne Valley and p
	arts of the Chiltern Hills.  Friday 19 August 2022\, 12.30pm to 5.00pm.\
	n\n\n\n	Start/Finish point is accessible by train to Great Missenden Stati
	on on the Chiltern Line (London Marylebone to Aylesbury Vale Parkway via A
	mersham) with pre-arranged pick up from the station to the start subject t
	o Covid status at the time.\n\n\n\n	The walk is mainly through open countr
	y and common land with some woodland\, along mostly flat terrain with some
	 slight to moderate hills.  The circular route follows a network of publ
	ic footpaths\, starting near the village of Great Missenden\, in the Misbo
	urne Valley and the Chiltern Hills.\n\n\n\n	The event is being organised b
	y British Naturism Eastern Region in association with the Milton Keynes Na
	turist Meet and Greet Group.  It is open to all members of British Natur
	ism and other naturist (walking) groups\; anyone new to naturism or to nat
	urist walking is welcome too.  When booking\, please state whether you a
	re a member of BN or other naturist groups.\n\n\n\n	 For further inform
	ation or to book onto this event\, please contact Andrew Roch or Amanda\, 
	Walks Coordinator\, via email: easternwalks@bn.org.uk giving your name\,
	 mobile phone number and membership status.  Details of the meeting poin
	t and other information will be provided when your booking is confirmed.\n
	\n
DTSTART:20220819T113000Z
END:VEVENT
END:VCALENDAR
