BEGIN:VCALENDAR
VERSION:2.0
PRODID:-//InvisionCommunity Events 5.0.18//EN
METHOD:PUBLISH
CALSCALE:GREGORIAN
REFRESH-INTERVAL:PT15M
X-PUBLISHED-TTL:PT15M
X-WR-CALNAME:Eastern
NAME:Eastern
BEGIN:VTIMEZONE
TZID:Europe/London
TZURL:https://tzurl.org/zoneinfo/Europe/London
X-LIC-LOCATION:Europe/London
BEGIN:DAYLIGHT
TZOFFSETFROM:+0000
TZOFFSETTO:+0100
TZNAME:BST
DTSTART:20220327T020000Z
RRULE:FREQ=YEARLY;BYMONTH=3;BYDAY=-1SU
END:DAYLIGHT
BEGIN:STANDARD
TZOFFSETFROM:+0100
TZOFFSETTO:+0000
TZNAME:GMT
DTSTART:20221030T020000Z
RRULE:FREQ=YEARLY;BYMONTH=10;BYDAY=-1SU
END:STANDARD
END:VTIMEZONE
BEGIN:VEVENT
SUMMARY:North Marston Naturist Walk
DTSTAMP:20220116T174524Z
SEQUENCE:0
UID:6583-8-0712e666d78c35a5e0181a336d457050@bn.org.uk
ORGANIZER;CN="Andrew Roch":notifications@bn.org.uk
DESCRIPTION:\n	Join us for a 7 mile naturist walk starting at/returning 
	to North Marston\, Buckinghamshire\, through parts of Aylesbury Vale wi
	th fantastic panoramic views of the Chilterns and North Buckinghamshire fr
	om the top of Quainton Hill\, on Friday 22nd July 2022\, 12.30pm to 5.30pm
	.\n\n\n\n	The walk is mainly flat\, with some low to moderate hills\, pass
	ing through grassland\, agricultural fields and open countryside\, with st
	unning views of Aylesbury Vale\, the Chilterns and North Buckinghamshire f
	rom the top of Quainton Hill.  Although the hill is long\, with a good p
	ath\, it is not too steep.  The circular route follows a network of publ
	ic footpaths including Matthew’s Way\, Midshires Way\, Swan’s Way and
	 the North Buckinghamshire Way before heading back to the start point acro
	ss open countryside.\n\n\n\n	The event is being organised by British Natur
	ism Eastern Region in association with the Milton Keynes Naturist Meet and
	 Greet Group.  It is open to all members of British Naturism and other n
	aturist (walking) groups\; anyone new to naturism or to naturist walking i
	s welcome too.  When booking\, please state whether you are a member of
	 BN or other naturist groups.\n\n\n\n	 You must be fit enough to walk u
	p to seven miles\, including moderate hills.  You should NOT attend if y
	ou have any Coronavirus symptoms.\n\n\n\n	 For further information or to 
	book onto this event\, please contact Andrew Roch or Amanda\, Walks Coordi
	nator\, via email: easternwalks@bn.org.uk giving your name\, mobile phon
	e number and membership status.  Details of the meeting point and other 
	information will be provided when your booking is confirmed.\n\n
DTSTART:20220722T113000Z
END:VEVENT
END:VCALENDAR
