BEGIN:VCALENDAR
VERSION:2.0
PRODID:-//InvisionCommunity Events 5.0.18//EN
METHOD:PUBLISH
CALSCALE:GREGORIAN
REFRESH-INTERVAL:PT15M
X-PUBLISHED-TTL:PT15M
X-WR-CALNAME:Eastern
NAME:Eastern
BEGIN:VTIMEZONE
TZID:Europe/London
TZURL:https://tzurl.org/zoneinfo/Europe/London
X-LIC-LOCATION:Europe/London
BEGIN:DAYLIGHT
TZOFFSETFROM:+0000
TZOFFSETTO:+0100
TZNAME:BST
DTSTART:20220327T020000Z
RRULE:FREQ=YEARLY;BYMONTH=3;BYDAY=-1SU
END:DAYLIGHT
BEGIN:STANDARD
TZOFFSETFROM:+0100
TZOFFSETTO:+0000
TZNAME:GMT
DTSTART:20221030T020000Z
RRULE:FREQ=YEARLY;BYMONTH=10;BYDAY=-1SU
END:STANDARD
END:VTIMEZONE
BEGIN:VEVENT
SUMMARY:World Naked Hiking Day - Stewkley Naturist Walk
DTSTAMP:20220116T173444Z
SEQUENCE:0
UID:6581-8-0712e666d78c35a5e0181a336d457050@bn.org.uk
ORGANIZER;CN="Andrew Roch":notifications@bn.org.uk
DESCRIPTION:\n	Join us for a 7 mile naturist walk starting at/returning 
	to Stewkley\, Buckinghamshire\, through the Vale of Aylesbury.  Tuesd
	ay 21 June 2022\, (World Naked Hiking Day) 12.30pm to 5.30pm.\n\n\n\n	The 
	walk is mainly flat passing through grassland\, agricultural fields and op
	en countryside.  The circular route follows a network of public footpath
	s through part of the Vale of Aylesbury before heading back to the start p
	oint across more open countryside.\n\n\n\n	The event is being organised by
	 British Naturism Eastern Region in association with the Milton Keynes Nat
	urist Meet and Greet Group.  It is open to all members of British Naturi
	sm and other naturist (walking) groups\; anyone new to naturism or to natu
	rist walking is welcome too.  When booking\, please state whether you ar
	e a member of BN or other naturist groups.\n\n\n\n	 For further informa
	tion or to book onto this event\, please contact Andrew Roch or Amanda\, W
	alks Coordinator\, via email: easternwalks@bn.org.uk giving your name\, 
	mobile phone number and membership status.  Details of the meeting point
	 and other information will be provided when your booking is confirmed.\n\
	n
DTSTART:20220621T113000Z
END:VEVENT
END:VCALENDAR
