BEGIN:VCALENDAR
VERSION:2.0
PRODID:-//InvisionCommunity Events 5.0.18//EN
METHOD:PUBLISH
CALSCALE:GREGORIAN
REFRESH-INTERVAL:PT15M
X-PUBLISHED-TTL:PT15M
X-WR-CALNAME:Eastern
NAME:Eastern
BEGIN:VTIMEZONE
TZID:Europe/London
TZURL:https://tzurl.org/zoneinfo/Europe/London
X-LIC-LOCATION:Europe/London
BEGIN:DAYLIGHT
TZOFFSETFROM:+0000
TZOFFSETTO:+0100
TZNAME:BST
DTSTART:20220327T020000Z
RRULE:FREQ=YEARLY;BYMONTH=3;BYDAY=-1SU
END:DAYLIGHT
BEGIN:STANDARD
TZOFFSETFROM:+0100
TZOFFSETTO:+0000
TZNAME:GMT
DTSTART:20221030T020000Z
RRULE:FREQ=YEARLY;BYMONTH=10;BYDAY=-1SU
END:STANDARD
END:VTIMEZONE
BEGIN:VEVENT
SUMMARY:Rosslyn Naturists Clothing Optional Week
DTSTAMP:20211218T202009Z
SEQUENCE:0
UID:6533-8-0712e666d78c35a5e0181a336d457050@bn.org.uk
ORGANIZER;CN="Claire.Andrew":notifications@bn.org.uk
DESCRIPTION:\n	Friday 17 June 2022\, 09:00 until Sunday 26 June 2022\,
	 17:00\n\n\n\n	We are running our two clothing optional weeks again this y
	ear. You can bring tents\, caravans\, motor homes or hire shepherd's huts.
	 There is electric hookup available. We have a heated\, open air swimming 
	pool on a sunny lawn...\n\n
DTSTART;VALUE=DATE:20220617
DTEND;VALUE=DATE:20220627
END:VEVENT
END:VCALENDAR
