BEGIN:VCALENDAR
VERSION:2.0
PRODID:-//InvisionCommunity Events 5.0.18//EN
METHOD:PUBLISH
CALSCALE:GREGORIAN
REFRESH-INTERVAL:PT15M
X-PUBLISHED-TTL:PT15M
X-WR-CALNAME:Eastern
NAME:Eastern
BEGIN:VTIMEZONE
TZID:Europe/London
TZURL:https://tzurl.org/zoneinfo/Europe/London
X-LIC-LOCATION:Europe/London
BEGIN:DAYLIGHT
TZOFFSETFROM:+0000
TZOFFSETTO:+0100
TZNAME:BST
DTSTART:20220327T020000Z
RRULE:FREQ=YEARLY;BYMONTH=3;BYDAY=-1SU
END:DAYLIGHT
BEGIN:STANDARD
TZOFFSETFROM:+0100
TZOFFSETTO:+0000
TZNAME:GMT
DTSTART:20221030T020000Z
RRULE:FREQ=YEARLY;BYMONTH=10;BYDAY=-1SU
END:STANDARD
END:VTIMEZONE
BEGIN:VEVENT
SUMMARY:Northampton Sun Group
DTSTAMP:20211214T161901Z
SEQUENCE:0
UID:6517-8-0712e666d78c35a5e0181a336d457050@bn.org.uk
ORGANIZER;CN="mellori":notifications@bn.org.uk
DESCRIPTION:\n	Northampton Sun Group (NSG) has been meeting for skinny-d
	ips in Northampton on Sunday evenings since 1982. However we have\, sadl
	y\, been closed since March 2020\, this will be our second meeting since w
	e had to close for Covid.\n\n\n\n	The doors will open at 5:15pm and clos
	e at 6:00pm. Our evening starts at 5.30pm and finishes at 8.00pm. We 
	will be holding skinny dips at NSG once a month for the time being. This w
	ill be reviewed. We meet for swimming\, there are two swimming pools\, inc
	luding a shallow 20 metre pool and a full size 33 yard pool\, with a 10ft 
	deep end.  Plus we have the use of the venue's Swedish Sauna &amp\; Steam
	 Room\, we also have access to a Table Tennis table and a lounge area for 
	refreshments and seating. It’s the ultimate skinny dipping experience an
	d a great way to finish the weekend!\n\n\n\n	Visit and 'Like' our Facebook
	 page - Northampton Sun Group.\n\n\n\n	There is no entry fee for children
	 under 18\, but they must be accompanied by an adult at all times.\n\n\n\n
		Please bring along your BN Card or Photo-ID and Proof of Address if you
	 have not been a visitor or member at NSG in the past.\n\n\n\n	Please Note
	: Covid Restrictions might apply\, such as Covid Pass/Negative Lateral Fl
	ow Test Result being presented for entry and wearing masks/visors when not
	 in the swimming pools etc. We will be guided by Government legislation/gu
	idance at that time.\n\n\n\n	Entry Fee is £10 for members and visitors.\n
	\n\n\n\n\n\n\n
DTSTART:20220213T173000Z
DTEND:20220213T200000Z
END:VEVENT
END:VCALENDAR
