BEGIN:VCALENDAR
VERSION:2.0
PRODID:-//InvisionCommunity Events 5.0.18//EN
METHOD:PUBLISH
CALSCALE:GREGORIAN
REFRESH-INTERVAL:PT15M
X-PUBLISHED-TTL:PT15M
X-WR-CALNAME:Yorkshire and East Midlands
NAME:Yorkshire and East Midlands
BEGIN:VTIMEZONE
TZID:Europe/London
TZURL:https://tzurl.org/zoneinfo/Europe/London
X-LIC-LOCATION:Europe/London
BEGIN:DAYLIGHT
TZOFFSETFROM:+0000
TZOFFSETTO:+0100
TZNAME:BST
DTSTART:20210328T020000Z
RRULE:FREQ=YEARLY;BYMONTH=3;BYDAY=-1SU
END:DAYLIGHT
BEGIN:STANDARD
TZOFFSETFROM:+0100
TZOFFSETTO:+0000
TZNAME:GMT
DTSTART:20211031T020000Z
RRULE:FREQ=YEARLY;BYMONTH=10;BYDAY=-1SU
END:STANDARD
END:VTIMEZONE
BEGIN:VEVENT
SUMMARY:Regional Meeting : Yorkshire and East Midlands - YSS
DTSTAMP:20210924T190820Z
SEQUENCE:0
UID:6440-6-0712e666d78c35a5e0181a336d457050@bn.org.uk
ORGANIZER;CN="Andrew Calow":notifications@bn.org.uk
DESCRIPTION:\n	There will be a Regional Meeting of the Yorkshire and Eas
	t Midlands Region taking place at the Yorkshire Sun Society Club on Sunday
	 10th October at 11am. This is open to Club Reps as well as members in the
	 region.\n\n\n\n	It would be appreciated if you could let us know ahead of
	 the day whether you will be coming as this will assist with the catering 
	arrangements. Please contact yorkshiresecretary@bn.org.uk\n\n\n\n	Yorkshir
	e Sun is a flat site extending to some 20+ acres.\n\n\n\n	Coming a week af
	ter the National AGM it will be an opportunity to hear about that event\, 
	but I hope you'll be online for the AGM!\n\n\nAgenda 10.10.21.docx
DTSTART:20211010T100000Z
DTEND:20211010T120000Z
END:VEVENT
END:VCALENDAR
