BEGIN:VCALENDAR
VERSION:2.0
PRODID:-//InvisionCommunity Events 5.0.18//EN
METHOD:PUBLISH
CALSCALE:GREGORIAN
REFRESH-INTERVAL:PT15M
X-PUBLISHED-TTL:PT15M
X-WR-CALNAME:London and South East (LASER)
NAME:London and South East (LASER)
BEGIN:VTIMEZONE
TZID:Europe/London
TZURL:https://tzurl.org/zoneinfo/Europe/London
X-LIC-LOCATION:Europe/London
BEGIN:DAYLIGHT
TZOFFSETFROM:+0000
TZOFFSETTO:+0100
TZNAME:BST
DTSTART:20210328T020000Z
RRULE:FREQ=YEARLY;BYMONTH=3;BYDAY=-1SU
END:DAYLIGHT
BEGIN:STANDARD
TZOFFSETFROM:+0100
TZOFFSETTO:+0000
TZNAME:GMT
DTSTART:20211031T020000Z
RRULE:FREQ=YEARLY;BYMONTH=10;BYDAY=-1SU
END:STANDARD
END:VTIMEZONE
BEGIN:VEVENT
SUMMARY:Yoga with East Sussex Naturists
DTSTAMP:20210913T184143Z
SEQUENCE:0
UID:6413-7-0712e666d78c35a5e0181a336d457050@bn.org.uk
ORGANIZER;CN="alanpeill1951":notifications@bn.org.uk
DESCRIPTION:\n	\n		Naked Yoga at Rye\n	\n\n	\n		\n			\n				22 Sep\, 14:0
	0 – 16:00\n			\n		\n	\n\n\n\n	\n		\n			\n				\n					Village hall near Ry
	e\, East Sussex TN31\, UK\n				\n			\n		\n\n		\n			Our class is welcoming\
	, relaxed and for all ages and abilities. Our teacher has taught yoga for 
	many years. Please register as the class is popular.\n		\n\n		\n			https:/
	/naturists.wixsite.com/eastsussexnaturists/events-1/naked-yoga-at-rye-2021
	-09-22-14-00-2\n		\n	\n\n
DTSTART:20210922T130000Z
DTEND:20210922T150000Z
END:VEVENT
END:VCALENDAR
