BEGIN:VCALENDAR
VERSION:2.0
PRODID:-//InvisionCommunity Events 5.0.18//EN
METHOD:PUBLISH
CALSCALE:GREGORIAN
REFRESH-INTERVAL:PT15M
X-PUBLISHED-TTL:PT15M
X-WR-CALNAME:North West
NAME:North West
BEGIN:VTIMEZONE
TZID:Europe/London
TZURL:https://tzurl.org/zoneinfo/Europe/London
X-LIC-LOCATION:Europe/London
BEGIN:DAYLIGHT
TZOFFSETFROM:+0000
TZOFFSETTO:+0100
TZNAME:BST
DTSTART:20210328T020000Z
RRULE:FREQ=YEARLY;BYMONTH=3;BYDAY=-1SU
END:DAYLIGHT
BEGIN:STANDARD
TZOFFSETFROM:+0100
TZOFFSETTO:+0000
TZNAME:GMT
DTSTART:20211031T020000Z
RRULE:FREQ=YEARLY;BYMONTH=10;BYDAY=-1SU
END:STANDARD
END:VTIMEZONE
BEGIN:VEVENT
SUMMARY:Manchester Male Naturist Swim
DTSTAMP:20210806T222127Z
SEQUENCE:0
UID:6363-5-0712e666d78c35a5e0181a336d457050@bn.org.uk
ORGANIZER;CN="David B":notifications@bn.org.uk
DESCRIPTION:\n	Every Thursday\, 7:00-8:30pm. The cost is £5\, and yo
	u’ll also need a (refundable) £1 coin or trolley token for the lockers.
	\n\n\n\n	The address is Arcadia Library &amp\; Leisure Centre\, Yew Tree A
	venue\, Manchester\, M19 3PH. There's free parking at the back\, with cycl
	e racks and local bus stops at the front\, and Levenshulme train station a
	 three minute walk away with frequent\, direct services to Manchester Picc
	adilly. The group meets inside the leisure centre\, just beyond reception\
	, against the blue wall near the computers. A group member will welcome yo
	u there and take payment\; don't pay at reception.\n\n\n\n	If you do atten
	d\, you must:\n\n\n\n	* Bring proof of double vaccinations - a vaccination
	 card or NHS app will be required.\n\n\n\n	* Pay contactless - all major c
	redit / debit cards are accepted plus Apple Pay and Google Pay.\n\n\n\n	* 
	Wear a mask when gathering in the foyer area and remain masked until naked
	 ready to swim then unmask and enjoy the swim.\n\n\n\n	* Re-mask after the
	 swim once showered. Please give space and respect individual preference.
	\n\n\n\n	* Stay at home if you have any symptoms of covid and do not atten
	d.\n\n\n\n	The pool we use has its own changing cubicles\, lockers\, showe
	rs and toilets\, and includes facilities for wheelchair users. Full length
	 blinds protect our privacy from the neighbouring pool for the duration of
	 our swim. The atmosphere is friendly and relaxed\; in the pool you can sw
	im or chat as much or as little as you like. There's an optional visit to 
	the nearby pub The Bluebell for a pint afterwards. Sadly due to covid prot
	ocols\, the sauna and steam room are temporarily out of use.\n\n\n\n	Pleas
	e RSVP here to indicate your attendance\; no other phoning or emailing ahe
	ad is required. Numbers vary\, but average 15-20 guys each week\; the maxi
	mum allowed is 30. The swim is advertised on various online sites and grou
	ps\, so don’t worry if there are low numbers attending from this listin
	g. This swim was established in 2006\, and is one of the UK’s few remai
	ning male only naturist swim events. Men from not just Manchester\, but al
	l over the UK and even around the world have swam with us\; and all men ar
	e welcome to attend. For any queries\, please email swiminfo@manchestermal
	enakedswim.co.uk or search @mcrmalenkdswim on Facebook\, Instagram\, or Tw
	itter.\n\n\n\n	Unacceptable behaviour will not be tolerated.\n\n\n\n	\n\n\
	n\n	\n\n\n\n	\n\n\n\n	 \n
DTSTART:20210812T180000Z
DTEND:20210812T193000Z
END:VEVENT
END:VCALENDAR
