BEGIN:VCALENDAR
VERSION:2.0
PRODID:-//InvisionCommunity Events 5.0.18//EN
METHOD:PUBLISH
CALSCALE:GREGORIAN
REFRESH-INTERVAL:PT15M
X-PUBLISHED-TTL:PT15M
X-WR-CALNAME:Scotland and North East (SANER)
NAME:Scotland and North East (SANER)
BEGIN:VTIMEZONE
TZID:Europe/London
TZURL:https://tzurl.org/zoneinfo/Europe/London
X-LIC-LOCATION:Europe/London
BEGIN:DAYLIGHT
TZOFFSETFROM:+0000
TZOFFSETTO:+0100
TZNAME:BST
DTSTART:20210328T020000Z
RRULE:FREQ=YEARLY;BYMONTH=3;BYDAY=-1SU
END:DAYLIGHT
BEGIN:STANDARD
TZOFFSETFROM:+0100
TZOFFSETTO:+0000
TZNAME:GMT
DTSTART:20211031T020000Z
RRULE:FREQ=YEARLY;BYMONTH=10;BYDAY=-1SU
END:STANDARD
END:VTIMEZONE
BEGIN:VEVENT
SUMMARY:NI Bunk House Weekend
DTSTAMP:20210601T110849Z
SEQUENCE:0
UID:6324-3-0712e666d78c35a5e0181a336d457050@bn.org.uk
ORGANIZER;CN="GaryNors":notifications@bn.org.uk
DESCRIPTION:\n	This is the first of what we hope will be a regular vist 
	to the Bunk House at Bloody Bridge campsite at the foot of the Mournes\n\n
	\n\n	For more info contact garyandnoreen@bn.org.uk\n\n\n\n	 \n
DTSTART;VALUE=DATE:20210730
DTEND;VALUE=DATE:20210802
END:VEVENT
END:VCALENDAR
