BEGIN:VCALENDAR
VERSION:2.0
PRODID:-//InvisionCommunity Events 5.0.18//EN
METHOD:PUBLISH
CALSCALE:GREGORIAN
REFRESH-INTERVAL:PT15M
X-PUBLISHED-TTL:PT15M
X-WR-CALNAME:Eastern
NAME:Eastern
BEGIN:VTIMEZONE
TZID:Europe/London
TZURL:https://tzurl.org/zoneinfo/Europe/London
X-LIC-LOCATION:Europe/London
BEGIN:DAYLIGHT
TZOFFSETFROM:+0000
TZOFFSETTO:+0100
TZNAME:BST
DTSTART:20210328T020000Z
RRULE:FREQ=YEARLY;BYMONTH=3;BYDAY=-1SU
END:DAYLIGHT
BEGIN:STANDARD
TZOFFSETFROM:+0100
TZOFFSETTO:+0000
TZNAME:GMT
DTSTART:20211031T020000Z
RRULE:FREQ=YEARLY;BYMONTH=10;BYDAY=-1SU
END:STANDARD
END:VTIMEZONE
BEGIN:VEVENT
SUMMARY:Corton Naturist Beach Day
DTSTAMP:20210510T203323Z
SEQUENCE:0
UID:6302-8-0712e666d78c35a5e0181a336d457050@bn.org.uk
ORGANIZER;CN="Robert Finney":notifications@bn.org.uk
DESCRIPTION:\n	Corton Beach Day - 7th August 2021\n\n\n\n	The Eastern R
	egion's Beach Day will be held at Corton which is almost the most easterly
	 point in the UK. This beach has the great advantage of easy access. Just
	 walk down the path to the beach and turn left. In a couple of minutes you
	 are in the section where most naturists go. There is a free car park just
	 across road from the the beach path which makes access even easier if dri
	ving. The beach is two miles from Lowestoft Station. \n\n\n\n	This is a 
	relaxed and free  event. Just come and join other naturists to enjoy the 
	beach. Bring a picnic and something to drink. Cath and Nigel will be there
	 from around 11.00am. Look for the BN flag.\n\n\n\n	 \n
DTSTART:20210807T100000Z
DTEND:20210807T170000Z
END:VEVENT
END:VCALENDAR
