BEGIN:VCALENDAR
VERSION:2.0
PRODID:-//InvisionCommunity Events 5.0.18//EN
METHOD:PUBLISH
CALSCALE:GREGORIAN
REFRESH-INTERVAL:PT15M
X-PUBLISHED-TTL:PT15M
X-WR-CALNAME:Eastern
NAME:Eastern
BEGIN:VTIMEZONE
TZID:Europe/London
TZURL:https://tzurl.org/zoneinfo/Europe/London
X-LIC-LOCATION:Europe/London
BEGIN:DAYLIGHT
TZOFFSETFROM:+0000
TZOFFSETTO:+0100
TZNAME:BST
DTSTART:20210328T020000Z
RRULE:FREQ=YEARLY;BYMONTH=3;BYDAY=-1SU
END:DAYLIGHT
BEGIN:STANDARD
TZOFFSETFROM:+0100
TZOFFSETTO:+0000
TZNAME:GMT
DTSTART:20211031T020000Z
RRULE:FREQ=YEARLY;BYMONTH=10;BYDAY=-1SU
END:STANDARD
END:VTIMEZONE
BEGIN:VEVENT
SUMMARY:Rosslyn Naturists clothing optional week.
DTSTAMP:20210417T194409Z
SEQUENCE:0
UID:6287-8-0712e666d78c35a5e0181a336d457050@bn.org.uk
ORGANIZER;CN="Claire.Andrew":notifications@bn.org.uk
DESCRIPTION:\n	We are running our two clothing optional weeks again this
	 year. You can bring tents\, caravans\, motor homes or hire shepherd's hut
	s. There is electric hookup available. We have a heated\, open air swimmin
	g pool on a sunny lawn. A sauna is available. There is an area for campfir
	es where you can sit about and chat in the evenings. We are also open for 
	Day Visits. You can contact us by email: claire.riches@homecall.co.uk or A
	ndrew's mobile 07785714277. There is a Facebook group but you need to be a
	dded by an existing member or look for Andrew Riches on Facebook. Dogs all
	owed.\n
DTSTART:20210618T080000Z
DTEND:20210627T160000Z
END:VEVENT
END:VCALENDAR
