BEGIN:VCALENDAR
VERSION:2.0
PRODID:-//InvisionCommunity Events 5.0.18//EN
METHOD:PUBLISH
CALSCALE:GREGORIAN
REFRESH-INTERVAL:PT15M
X-PUBLISHED-TTL:PT15M
X-WR-CALNAME:Eastern
NAME:Eastern
BEGIN:VTIMEZONE
TZID:Europe/London
TZURL:https://tzurl.org/zoneinfo/Europe/London
X-LIC-LOCATION:Europe/London
BEGIN:DAYLIGHT
TZOFFSETFROM:+0000
TZOFFSETTO:+0100
TZNAME:BST
DTSTART:20210328T020000Z
RRULE:FREQ=YEARLY;BYMONTH=3;BYDAY=-1SU
END:DAYLIGHT
BEGIN:STANDARD
TZOFFSETFROM:+0100
TZOFFSETTO:+0000
TZNAME:GMT
DTSTART:20211031T020000Z
RRULE:FREQ=YEARLY;BYMONTH=10;BYDAY=-1SU
END:STANDARD
END:VTIMEZONE
BEGIN:VEVENT
SUMMARY:Peterborough Lido Naturist Swim
DTSTAMP:20210405T194452Z
SEQUENCE:0
UID:6283-8-0712e666d78c35a5e0181a336d457050@bn.org.uk
ORGANIZER;CN="Robert Finney":notifications@bn.org.uk
DESCRIPTION:\n	\n\n\n	 \n\n\n\n	Peterborough Lido Naturist Swim\n\n\n\n
		12th June 2021 - 7.30pm to 10.00pm.\n\n\n\n	 \n\n\n\n	 \n\n\n\n	 \n\n\
	n\n	\n\n\n	\n\n\n	British Naturism Eastern Region is pleased to announce t
	hat we have booked Peterborough Lido for a naturist swim. This is a wonder
	ful example of a 1930s Lido with 3 heated pools. \n\n\n\n	 \n\n\n\n	 \n\
	n\n\n	 \n\n\n\n	\nWe had an enjoyable visit to the Lido in 2019  and in
	tended to return in 2020 but Covid had other ideas. This is our first oppo
	rtunity to return!\n\n\n\n	British Naturism members £6.70\n\n\n\n	Non-mem
	bers £8.95\n\n\n\n	Travel to the Lido is easy. There is a large carpark n
	ext to the Lido and it is 15 minutes walk from the railway station (0.7 mi
	les).\n\n\n\n	For those with mobility problems\; the pool is basically on 
	one level with good steps in the corners of the pool for access. \n\n\n\n
		We have to clear the pool at 9.30pm and leave by 10.00pm.\n\n\n\n	 \n\n\
	n\n	  BOOKING  LINK        Peterborough Lido – British Naturism (
	bn.org.uk)\n
DTSTART:20210612T183000Z
DTEND:20210612T210000Z
END:VEVENT
END:VCALENDAR
