BEGIN:VCALENDAR
VERSION:2.0
PRODID:-//InvisionCommunity Events 5.0.18//EN
METHOD:PUBLISH
CALSCALE:GREGORIAN
REFRESH-INTERVAL:PT15M
X-PUBLISHED-TTL:PT15M
X-WR-CALNAME:London and South East (LASER)
NAME:London and South East (LASER)
BEGIN:VTIMEZONE
TZID:Europe/London
TZURL:https://tzurl.org/zoneinfo/Europe/London
X-LIC-LOCATION:Europe/London
BEGIN:DAYLIGHT
TZOFFSETFROM:+0000
TZOFFSETTO:+0100
TZNAME:BST
DTSTART:20210328T020000Z
RRULE:FREQ=YEARLY;BYMONTH=3;BYDAY=-1SU
END:DAYLIGHT
BEGIN:STANDARD
TZOFFSETFROM:+0100
TZOFFSETTO:+0000
TZNAME:GMT
DTSTART:20211031T020000Z
RRULE:FREQ=YEARLY;BYMONTH=10;BYDAY=-1SU
END:STANDARD
END:VTIMEZONE
BEGIN:VEVENT
SUMMARY:High Beeches Garden
DTSTAMP:20210317T223311Z
SEQUENCE:0
UID:6268-7-0712e666d78c35a5e0181a336d457050@bn.org.uk
ORGANIZER;CN="alanpeill1951":notifications@bn.org.uk
DESCRIPTION:\n	A hidden gem in the High Weald of Sussex\, High Beeches i
	s a botanical treasure trove planted with many rare trees and shrubs.\n\n\
	n\n	There is much to see at every season: In spring the magnolias and came
	llias are under planted with swathes of daffodils and the woodland glades 
	and vistas are\,in early summer\, carpeted with bluebells and filled with 
	the colour and fragrance of the many rhododendrons and azaleas.\n\n\n\n	In
	 June the ancient natural acid wildflower meadow is a spectacular sight an
	d in August the willow gentians flourish here\, the only garden in the cou
	ntry where they are naturalized. Autumn brings a glorious display of colou
	r provided by the many nyssas\, liquidambers and maples.\n\n\n\n	This is t
	he second of three visits scheduled for this year. It is open to all natu
	rists\, not just BN members. It is ideal for anyone new to naturism.\n\n
	\n\n	Admission charge is  £8.50. (Contactless preferred or exact cash pl
	ease). Ice creams and soft drinks available. No booking - just turn up. 
	 Further information from 07486 424068   Visit  https://www.highbeeche
	s.com/\n\n\n\n	High Beeches Lane\, Handcross\, West Sussex. RH17 6HQ\n\n\n
	\n	 \n\n\n\n	Photos copyright Malcolm Beakhust &amp\; High Beeches).\n
DTSTART:20210804T130000Z
DTEND:20210804T163000Z
END:VEVENT
END:VCALENDAR
