BEGIN:VCALENDAR
VERSION:2.0
PRODID:-//InvisionCommunity Events 5.0.18//EN
METHOD:PUBLISH
CALSCALE:GREGORIAN
REFRESH-INTERVAL:PT15M
X-PUBLISHED-TTL:PT15M
X-WR-CALNAME:South West
NAME:South West
BEGIN:VTIMEZONE
TZID:Europe/London
TZURL:https://tzurl.org/zoneinfo/Europe/London
X-LIC-LOCATION:Europe/London
BEGIN:DAYLIGHT
TZOFFSETFROM:+0000
TZOFFSETTO:+0100
TZNAME:BST
DTSTART:20210328T020000Z
RRULE:FREQ=YEARLY;BYMONTH=3;BYDAY=-1SU
END:DAYLIGHT
BEGIN:STANDARD
TZOFFSETFROM:+0100
TZOFFSETTO:+0000
TZNAME:GMT
DTSTART:20211031T020000Z
RRULE:FREQ=YEARLY;BYMONTH=10;BYDAY=-1SU
END:STANDARD
END:VTIMEZONE
BEGIN:VEVENT
SUMMARY:Abbey House Gardens - Clothes Optional Day
DTSTAMP:20210314T122323Z
SEQUENCE:0
UID:6265-4-0712e666d78c35a5e0181a336d457050@bn.org.uk
ORGANIZER;CN="peter.edwards":notifications@bn.org.uk
DESCRIPTION:\n	Abbey House Gardens invites BN members and friends to the
	ir first Clothes Optional Day of 2021.  \n\n	This is a perfect opportunit
	y to enjoy a great clothes free day out in this beautiful 5 acre garden\, 
	with its years of history. \n\n	The Coy Carp Café will be open for refre
	shments.  \n\n	A sculpture exhibition by Cotswold Sculpture Association 
	will be found in the Belvidere\, more sculptures will also be on display a
	round the gardens. \n\n\n\n	During your visit please follow any COVID-19 
	social distancing or government guidelines/restrictions that may be in pla
	ce\, including face mask requirements. They will be there for everyone’s
	 safety and wellbeing. \n\n	In addition\, please do respect all path rest
	rictions. These closures are necessary to protect the continuance of cloth
	es optional days at Abbey House Gardens. \n\n	Remember the naturist etiqu
	ette and always sit on a towel or similar.\n\n\n\n	All visitors are respon
	sible for their own personal belongings including clothes.\n\n\n\n	Gates o
	pen 11.00 – 17.30 (Last entry 16:45)\n\n\n\n	Admission Fee: BN Members (
	Membership card required) £10  -  Non BN visitors £12\n\n\n\n	Long sta
	y Station Car Park post code:  SN16 0DY (Located rear of the gardens)\n\n
	\n\n	Updates on this event will be posted here if necessary. Please check 
	before attending.\n\n\n\n	Fingers crossed all days will be able to go ahea
	d as we slowly progress forward re Covid19  \n\n\n\n	http://www.abbeyhous
	egardens.co.uk/  \n\n\n\n	 \n\n\n\n	 \n
DTSTART:20210425T100000Z
DTEND:20210425T163000Z
END:VEVENT
END:VCALENDAR
