BEGIN:VCALENDAR
VERSION:2.0
PRODID:-//InvisionCommunity Events 5.0.18//EN
METHOD:PUBLISH
CALSCALE:GREGORIAN
REFRESH-INTERVAL:PT15M
X-PUBLISHED-TTL:PT15M
X-WR-CALNAME:Eastern
NAME:Eastern
BEGIN:VTIMEZONE
TZID:Europe/London
TZURL:https://tzurl.org/zoneinfo/Europe/London
X-LIC-LOCATION:Europe/London
BEGIN:DAYLIGHT
TZOFFSETFROM:+0000
TZOFFSETTO:+0100
TZNAME:BST
DTSTART:20210328T020000Z
RRULE:FREQ=YEARLY;BYMONTH=3;BYDAY=-1SU
END:DAYLIGHT
BEGIN:STANDARD
TZOFFSETFROM:+0100
TZOFFSETTO:+0000
TZNAME:GMT
DTSTART:20211031T020000Z
RRULE:FREQ=YEARLY;BYMONTH=10;BYDAY=-1SU
END:STANDARD
END:VTIMEZONE
BEGIN:VEVENT
SUMMARY:Grand Union Canal Cruise
DTSTAMP:20210225T223922Z
SEQUENCE:0
UID:6259-8-0712e666d78c35a5e0181a336d457050@bn.org.uk
ORGANIZER;CN="Robert Finney":notifications@bn.org.uk
DESCRIPTION:\n	\n\n\n	Cruise Naked on the Grand Union Canal\n\n\n\n	11th
	 September 2021 - 2.00pm to 6.00pm\n\n\n\n	Nash Mills (Hemel Hempstead)\n
	\n\n\n	 \n\n\n\n	The Eastern region is pleased to confirm that our naked 
	trip on the Grand Union Canal will go ahead as planned! The trip will star
	t at Nash Mills which is just south of Hemel Hempstead and will travel on 
	a section of the canal close to London.\n\n\n\n	The cruise will include te
	a and coffee but no food. You may bring your own cake or scones (provided 
	you take your rubbish home.) Please contact the organiser for more informa
	tion @Robert Finney  or robert.finney@bn.org.uk\n\n\n\n	The boat is owne
	d and operated by the charity Waterways Experiences which provides trips 
	for people with disabilities Waterways Experiences: Canal trips on the Gr
	and Union (wexp.org.uk)    . The boat is also hired out to other people
	 in order to raise money to support their work - our hire of the boat will
	 help support their work. \n\n\n\n	Price\; Members £14.95\; Non-Members
	 £19.95.\n\n\n\n	Ticket Sales\; Grand Union Canal Boat Trip – British 
	Naturism (bn.org.uk)\n\n\n\n	 \n
DTSTART:20210911T130000Z
DTEND:20210911T170000Z
END:VEVENT
END:VCALENDAR
