BEGIN:VCALENDAR
VERSION:2.0
PRODID:-//InvisionCommunity Events 5.0.18//EN
METHOD:PUBLISH
CALSCALE:GREGORIAN
REFRESH-INTERVAL:PT15M
X-PUBLISHED-TTL:PT15M
X-WR-CALNAME:Yorkshire and East Midlands
NAME:Yorkshire and East Midlands
BEGIN:VTIMEZONE
TZID:Europe/London
TZURL:https://tzurl.org/zoneinfo/Europe/London
X-LIC-LOCATION:Europe/London
BEGIN:DAYLIGHT
TZOFFSETFROM:+0000
TZOFFSETTO:+0100
TZNAME:BST
DTSTART:20210328T020000Z
RRULE:FREQ=YEARLY;BYMONTH=3;BYDAY=-1SU
END:DAYLIGHT
BEGIN:STANDARD
TZOFFSETFROM:+0100
TZOFFSETTO:+0000
TZNAME:GMT
DTSTART:20211031T020000Z
RRULE:FREQ=YEARLY;BYMONTH=10;BYDAY=-1SU
END:STANDARD
END:VTIMEZONE
BEGIN:VEVENT
SUMMARY:Candy Farm Naturist Camping Week
DTSTAMP:20210107T205307Z
SEQUENCE:0
UID:6244-6-0712e666d78c35a5e0181a336d457050@bn.org.uk
ORGANIZER;CN="Andrew Calow":notifications@bn.org.uk
DESCRIPTION:\n	A reminder to make a note in your diaries for this time.\
	n\n\n\n	Come and experience the Great Outdoors!\n\n\n\n	A week long campin
	g opportunity. get away from it all. Laze in the sun. Enjoy the feeling of
	 naked freedom once again.\n\n\n\n	The farm is on flat land with nearby wo
	odland overlooking Hadfield Moorland and the Humberhead Peatlands National
	 Nature Reserve.\n\n\n\n	More details will be posted closer to the time.\n
	\n\n\n	[note. Owing to HM Government Regulations this will not be a BN org
	anised event]\n
DTSTART:20210528T110000Z
DTEND:20210604T110000Z
END:VEVENT
END:VCALENDAR
