BEGIN:VCALENDAR
VERSION:2.0
PRODID:-//InvisionCommunity Events 5.0.18//EN
METHOD:PUBLISH
CALSCALE:GREGORIAN
REFRESH-INTERVAL:PT15M
X-PUBLISHED-TTL:PT15M
X-WR-CALNAME:South West
NAME:South West
BEGIN:VTIMEZONE
TZID:Europe/London
TZURL:https://tzurl.org/zoneinfo/Europe/London
X-LIC-LOCATION:Europe/London
BEGIN:DAYLIGHT
TZOFFSETFROM:+0000
TZOFFSETTO:+0100
TZNAME:BST
DTSTART:20210328T020000Z
RRULE:FREQ=YEARLY;BYMONTH=3;BYDAY=-1SU
END:DAYLIGHT
BEGIN:STANDARD
TZOFFSETFROM:+0100
TZOFFSETTO:+0000
TZNAME:GMT
DTSTART:20211031T020000Z
RRULE:FREQ=YEARLY;BYMONTH=10;BYDAY=-1SU
END:STANDARD
END:VTIMEZONE
BEGIN:VEVENT
SUMMARY:Wales Fireside Chats down The Cwtch
DTSTAMP:20201228T145035Z
SEQUENCE:0
UID:6232-4-0712e666d78c35a5e0181a336d457050@bn.org.uk
ORGANIZER;CN="tombuc2":notifications@bn.org.uk
DESCRIPTION:\n	It's third Sunday of the month again - so feel free to wa
	nder by the Cwtch for good company and cheer  I had set this posting to b
	e recurring but seems need to enter manually each time. Same link each tim
	e for the 3rd Sunday with a different one for the 1st Sunday .\n\n\n\n	We 
	will review dates for what people want to happen next. We may be busy gett
	ing up to other naturist mischief as weather warms and restrictions may st
	art to ease. But we might still want the option to meet up on the Zoom to 
	keep in touch and plan further 🙂\n\n\n\n	Topic: BN Wales Fireside Chat
	 - 3rd Sunday of each month\n\n	Time:  Sunday 18th April 2021 @  6:00 P
	M (18.00 hours) Kaerdiff/Caernarfon Canalog Time 🙂 \n\n	        \
	n\n\n\n	You can download and import the following iCalendar (.ics) files t
	o your calendar system\,  if you want reminders: .\n\n	Monthly: https://u
	s02web.zoom.us/meeting/tZ0rd-2srD8rE9E7ZcockFZVtYXACAdEUBhD/ics?icsToken=9
	8tyKuGhqDsuHtaRsRCCRpx5BIigLOjzpilcj_p4yyXmDCNYRDnAItt6E5FeFP3l\n\n\n\n	Bu
	t to join each of the third Sunday sessions\, the actual Zoom link is: \n
	https://us02web.zoom.us/j/89604424195?pwd=dTBmeCtVNGlBRGNGcUtOS3FmbFhldz09
	\n\n\n\n	Meeting ID: 896 0442 4195\n\n	Passcode: 181412\n\n\n\n	 \n
DTSTART:20210418T170000Z
END:VEVENT
END:VCALENDAR
